BEGIN:VCALENDAR
VERSION:2.0
PRODID:-//wp-events-plugin.com//7.2.3.1//EN
BEGIN:VEVENT
UID:9172@visitlebanonky.com
DTSTART;TZID=America/Kentucky/Louisville:20260423T180000
DTEND;TZID=America/Kentucky/Louisville:20260423T210000
DTSTAMP:20260406T183231Z
URL:https://visitlebanonky.com/events/military-night-at-mchs-softball/
SUMMARY:Military Night at MCHS Softball
DESCRIPTION:Lady Knights Softball to Host Veteran & Service Member Apprecia
 tion Night April 23\nThe Marion County Lady Knights softball are inviting 
 the community to come together for a special evening of recognition and gr
 atitude as they honor local veterans and active service members on Thursda
 y\, April 23.\nThe event aims to bring players\, families\, and the broade
 r Marion County community together in appreciation of the sacrifices made 
 by members of the armed forces.\nThe Lady Knights program says the event i
 s about more than softball—it’s about community pride\, respect\, and 
 honoring those who have given so much.\nEveryone is encouraged to come out
 \, show their support\, and enjoy an evening of softball while celebrating
  Marion County’s hometown heroes.
ATTACH;FMTTYPE=image/jpeg:https://visitlebanonky.com/wp-content/uploads/20
 26/04/softball-veterans.jpg
CATEGORIES:Community
LOCATION:MCHS Softball Field\, 735 East Main Street\, Lebanon\, Kentucky\, 
 40033\, Marion County\, United States
GEO:37.576944;-85.226257
X-APPLE-STRUCTURED-LOCATION;VALUE=URI;X-ADDRESS=735 East Main Street\, Leba
 non\, Kentucky\, 40033\, Marion County\, United States;X-APPLE-RADIUS=100;
 X-TITLE=MCHS Softball Field:geo:37.576944,-85.226257
END:VEVENT
BEGIN:VTIMEZONE
TZID:America/Kentucky/Louisville
X-LIC-LOCATION:America/Kentucky/Louisville
BEGIN:DAYLIGHT
DTSTART:20260308T030000
TZOFFSETFROM:-0500
TZOFFSETTO:-0400
TZNAME:EDT
END:DAYLIGHT
END:VTIMEZONE
END:VCALENDAR