BEGIN:VCALENDAR
VERSION:2.0
PRODID:-//wp-events-plugin.com//7.2.3.1//EN
BEGIN:VEVENT
UID:9152@visitlebanonky.com
DTSTART;TZID=America/Kentucky/Louisville:20260509T110000
DTEND;TZID=America/Kentucky/Louisville:20260509T160000
DTSTAMP:20260331T181953Z
URL:https://visitlebanonky.com/events/moms-mimosas-mothers-day-brunch-rese
 rvations-required/
SUMMARY:Mom's & Mimosas Mother's Day Brunch - Reservations Required
DESCRIPTION:Our Annual Mom’s & Mimosas Brunch is back\, and we are so exc
 ited for another year celebrating all the daughters and mothers\, or that 
 special woman in your life\, or celebrate with your mom friends!  \nJoin u
 s for a beautiful day full of mimosas\, delicious brunch\, sweet treats\, 
 and special memories you won’t want to miss. We love seeing all the beau
 tiful smiles this event brings as everyone comes together each year\, and 
 we can’t wait to do it all over again!\nTickets are available now at the
  restaurant or you can call to reserve 270-321-4261. Reservations are requ
 ired. You can find this and other specials on the Diner's Facebook page HE
 RE\nThere will also be a paid flower bar the day of the event.\n
ATTACH;FMTTYPE=image/jpeg:https://visitlebanonky.com/wp-content/uploads/20
 26/03/moms-and-mimosas.jpg
CATEGORIES:Community
LOCATION:Main Street Diner\, 157 West Main St.\, Lebanon\, Kentucky\, 40033
 \, Marion County\, United States
GEO:37.569544;-85.254017
X-APPLE-STRUCTURED-LOCATION;VALUE=URI;X-ADDRESS=157 West Main St.\, Lebanon
 \, Kentucky\, 40033\, Marion County\, United States;X-APPLE-RADIUS=100;X-T
 ITLE=Main Street Diner:geo:37.569544,-85.254017
END:VEVENT
BEGIN:VTIMEZONE
TZID:America/Kentucky/Louisville
X-LIC-LOCATION:America/Kentucky/Louisville
BEGIN:DAYLIGHT
DTSTART:20260308T030000
TZOFFSETFROM:-0500
TZOFFSETTO:-0400
TZNAME:EDT
END:DAYLIGHT
END:VTIMEZONE
END:VCALENDAR