BEGIN:VCALENDAR
VERSION:2.0
PRODID:-//wp-events-plugin.com//7.2.3.1//EN
BEGIN:VEVENT
UID:5947@visitlebanonky.com
DTSTART;TZID=America/Kentucky/Louisville:20240730T160000
DTEND;TZID=America/Kentucky/Louisville:20240730T180000
DTSTAMP:20240727T025723Z
URL:https://visitlebanonky.com/events/motherhouse-peace-committee-letter-w
 riting-event/
SUMMARY:Motherhouse Peace Committee- Letter Writing Event
DESCRIPTION:
ATTACH;FMTTYPE=image/jpeg:https://visitlebanonky.com/wp-content/uploads/20
 24/07/letters.jpg
CATEGORIES:Community
LOCATION:Loretto Motherhouse Conference Room\, 515 Nerinx Road\, Nerinx\, K
 Y\, 40049\, United States
X-APPLE-STRUCTURED-LOCATION;VALUE=URI;X-ADDRESS=515 Nerinx Road\, Nerinx\, 
 KY\, 40049\, United States;X-APPLE-RADIUS=100;X-TITLE=Loretto Motherhouse 
 Conference Room:geo:0,0
END:VEVENT
BEGIN:VTIMEZONE
TZID:America/Kentucky/Louisville
X-LIC-LOCATION:America/Kentucky/Louisville
BEGIN:DAYLIGHT
DTSTART:20240310T030000
TZOFFSETFROM:-0500
TZOFFSETTO:-0400
TZNAME:EDT
END:DAYLIGHT
END:VTIMEZONE
END:VCALENDAR