BEGIN:VCALENDAR
VERSION:2.0
PRODID:-//wp-events-plugin.com//7.2.3.1//EN
BEGIN:VEVENT
UID:9265@visitlebanonky.com
DTSTART;TZID=America/Kentucky/Louisville:20260510T110000
DTEND;TZID=America/Kentucky/Louisville:20260510T150000
DTSTAMP:20260423T210114Z
URL:https://visitlebanonky.com/events/mothers-day-lunch-at-cedarwood/
SUMMARY:Mother's Day Lunch at Cedarwood
DESCRIPTION:
ATTACH;FMTTYPE=image/jpeg:https://visitlebanonky.com/wp-content/uploads/20
 26/04/cedarwood.jpg
CATEGORIES:Community
LOCATION:Cedarwood Restaurant•Catering•Concessions & Gifts\, 660 E. Mai
 n Street\, Lebanon\, Kentucky\, 40033\, Marion County\, United States
GEO:37.573041;-85.243528
X-APPLE-STRUCTURED-LOCATION;VALUE=URI;X-ADDRESS=660 E. Main Street\, Lebano
 n\, Kentucky\, 40033\, Marion County\, United States;X-APPLE-RADIUS=100;X-
 TITLE=Cedarwood Restaurant•Catering•Concessions & Gifts:geo:37.573041,
 -85.243528
END:VEVENT
BEGIN:VTIMEZONE
TZID:America/Kentucky/Louisville
X-LIC-LOCATION:America/Kentucky/Louisville
BEGIN:DAYLIGHT
DTSTART:20260308T030000
TZOFFSETFROM:-0500
TZOFFSETTO:-0400
TZNAME:EDT
END:DAYLIGHT
END:VTIMEZONE
END:VCALENDAR