BEGIN:VCALENDAR
VERSION:2.0
PRODID:-//wp-events-plugin.com//7.2.3.1//EN
BEGIN:VEVENT
UID:6615@visitlebanonky.com
DTSTART;TZID=America/Kentucky/Louisville:20241221T163000
DTEND;TZID=America/Kentucky/Louisville:20241221T190000
DTSTAMP:20241217T065801Z
URL:https://visitlebanonky.com/events/motown-christmas-cantata/
SUMMARY:Motown Christmas Cantata
DESCRIPTION:Welcome to the 1st Motown Christmas Cantata!\nThis is a musical
  play production that embodies the culture of our diverse community\, high
 lighting the essence of Christmas and Motown music. Featuring "The Fabulou
 s Bentley Brothers Show Band"\, an old-school band that performs all of th
 e hits from the '50s\, '60s\, and '70s. They will be opening our Motown Ch
 ristmas Cantata with the warm\, smooth\, sensational sounds of a Motown Ch
 ristmas\, such as The Temptations' "Silent Night" and the Jackson 5's "I S
 aw Mommy Kissing Santa Claus\," along with a variety of other Motown Chris
 tmas hits. Also featuring...\nTosha McCann's Stage play "A Man Named Job"\
 nThis Inspirational Stage play is about a wealthy and prosperous man whose
  faith is tested when he is faced with the appalling loss of his possessio
 ns\, family and health. Watch as this emotional Christmas story will take 
 you through his journey that keeps you laughing\, crying and most of all i
 nspires you. There is no greater gift for Christmas than the gift of faith
 .\nPerformance: Dec 21st\, 2024 at 5:00PM\nDoors Open at 4:30PM 
ATTACH;FMTTYPE=image/jpeg:https://visitlebanonky.com/wp-content/uploads/20
 24/12/motown-2.jpg
CATEGORIES:Official
LOCATION:Springfield Opera House\, 124 W. Main St.\, Springfield\, Kentucky
 \, 40069\, Washington County\, United States
GEO:37.685307;-85.222427
X-APPLE-STRUCTURED-LOCATION;VALUE=URI;X-ADDRESS=124 W. Main St.\, Springfie
 ld\, Kentucky\, 40069\, Washington County\, United States;X-APPLE-RADIUS=1
 00;X-TITLE=Springfield Opera House:geo:37.685307,-85.222427
END:VEVENT
BEGIN:VTIMEZONE
TZID:America/Kentucky/Louisville
X-LIC-LOCATION:America/Kentucky/Louisville
BEGIN:STANDARD
DTSTART:20241103T010000
TZOFFSETFROM:-0400
TZOFFSETTO:-0500
TZNAME:EST
END:STANDARD
END:VTIMEZONE
END:VCALENDAR