BEGIN:VCALENDAR
VERSION:2.0
PRODID:-//wp-events-plugin.com//7.2.3.1//EN
BEGIN:VEVENT
UID:8131@visitlebanonky.com
DTSTART;TZID=America/Kentucky/Louisville:20251024T180000
DTEND;TZID=America/Kentucky/Louisville:20251024T210000
DTSTAMP:20251015T161556Z
URL:https://visitlebanonky.com/events/movie-night-at-prewitts-pumpkin-patc
 h/
SUMMARY:Movie Night at Prewitt's Pumpkin Patch
DESCRIPTION:You can check them out on Facebook for this and other events at
  https://www.facebook.com/profile.php?id=100064428922155\n🎬🐮 MOOvie 
 Night at Prewitt’s Pumpkin Patch! 🎃🌙\nJoin us for a spooktacular e
 vening of fall fun — Friday\, October 24\, 2025 at 6:00 PM!\n👻 Trick-
 or-Treating\n🎭 Costume Contest (Cutest\, Most creative and Spookiest)\n
 🚜 Hayride\n🎯 Games and more!\n🍿 Movie starts at dusk — bring yo
 ur blanket or lawn chair and get cozy under the stars!\n$10 Entry\nPurchas
 e tickets here: https://square.link/u/ZlcWVh8a\n📍 Prewitt’s Pumpkin P
 atch\n3856 Scrubgrass Road\, Gravel Switch\n🎟 Bring your family\, wear 
 your costumes\, and get ready for a night full of fun\, laughter\, and MOO
 vie magic!
ATTACH;FMTTYPE=image/jpeg:https://visitlebanonky.com/wp-content/uploads/20
 25/10/scrubgrass-halloween.jpg
CATEGORIES:Community
LOCATION:Prewitt's Pumpkin Patch\, 3856 Scrubgrass Road\, Gravel Switch\, K
 entucky\, 40328\, Boyle County\, United States
GEO:37.574693;-84.985816
X-APPLE-STRUCTURED-LOCATION;VALUE=URI;X-ADDRESS=3856 Scrubgrass Road\, Grav
 el Switch\, Kentucky\, 40328\, Boyle County\, United States;X-APPLE-RADIUS
 =100;X-TITLE=Prewitt's Pumpkin Patch:geo:37.574693,-84.985816
END:VEVENT
BEGIN:VTIMEZONE
TZID:America/Kentucky/Louisville
X-LIC-LOCATION:America/Kentucky/Louisville
BEGIN:DAYLIGHT
DTSTART:20250309T030000
TZOFFSETFROM:-0500
TZOFFSETTO:-0400
TZNAME:EDT
END:DAYLIGHT
END:VTIMEZONE
END:VCALENDAR