BEGIN:VCALENDAR
VERSION:2.0
PRODID:-//wp-events-plugin.com//7.2.3.1//EN
BEGIN:VEVENT
UID:6284@visitlebanonky.com
DTSTART;TZID=America/Kentucky/Louisville:20241023T180000
DTEND;TZID=America/Kentucky/Louisville:20241023T200000
DTSTAMP:20241015T200947Z
URL:https://visitlebanonky.com/events/muldraugh-hill-baptist-church-trunk-
 or-treat/
SUMMARY:Muldraugh Hill Baptist Church Trunk or Treat
DESCRIPTION:Muldraugh Hill Baptist Church Trunk Or Treat! \nPick out your c
 ostume and grab an empty bag and join us for our Trunk or Treat event at M
 uldraugh Hill Baptist Church on Wednesday\, October 23 from 6-8 p.m. Fun f
 or all ages! Come set your car up and decorate or just sit and watch the t
 rick or treaters. We invite YOU to join in on our fall fun.
ATTACH;FMTTYPE=image/jpeg:https://visitlebanonky.com/wp-content/uploads/20
 24/10/mdh-trunk-or-treat.jpg
CATEGORIES:Community
LOCATION:Muldraugh Hill Baptist Church\, 4430 Highway 289\, Lebanon\, Kentu
 cky\, 40033\, Marion County\, United States
GEO:37.474947;-85.329265
X-APPLE-STRUCTURED-LOCATION;VALUE=URI;X-ADDRESS=4430 Highway 289\, Lebanon\
 , Kentucky\, 40033\, Marion County\, United States;X-APPLE-RADIUS=100;X-TI
 TLE=Muldraugh Hill Baptist Church:geo:37.474947,-85.329265
END:VEVENT
BEGIN:VTIMEZONE
TZID:America/Kentucky/Louisville
X-LIC-LOCATION:America/Kentucky/Louisville
BEGIN:DAYLIGHT
DTSTART:20240310T030000
TZOFFSETFROM:-0500
TZOFFSETTO:-0400
TZNAME:EDT
END:DAYLIGHT
END:VTIMEZONE
END:VCALENDAR