BEGIN:VCALENDAR
VERSION:2.0
PRODID:-//wp-events-plugin.com//7.2.3.1//EN
BEGIN:VEVENT
UID:8865@visitlebanonky.com
DTSTART;TZID=America/Kentucky/Louisville:20260319T180000
DTEND;TZID=America/Kentucky/Louisville:20260319T210000
DTSTAMP:20260212T042339Z
URL:https://visitlebanonky.com/events/murder-at-margaritaland/
SUMMARY:Murder at Margaritaland
DESCRIPTION:Follow on Facebook HERE\n🕵️‍♀️🕵️‍♂️Callin
 g all sleuths\, your murder solving skills will be needed at Wildstang Win
 ery on March 19th!🕵️‍♂️🕵️\nJoin us for Murder at Margarita
 land\, an evening full of murder\, mystery and betrayal. Use your skills a
 nd gather the clues to solve the murder\, all while enjoying a tropical th
 emed getaway filled with tropical food and drinks! \nTickets are limited \
 , so we will be offering prepaid reserved spots. Each ticket includes the 
 tropical themed buffet and one drink ticket. Additional drinks can be purc
 hased at the event. \nTo reserve your spot call 270-699-1834.
ATTACH;FMTTYPE=image/jpeg:https://visitlebanonky.com/wp-content/uploads/20
 26/02/murder.jpg
CATEGORIES:Community
LOCATION:Wildstang Winery\, 137 A Mills Road\, Loretto\, Kentucky\, 40037\,
  Marion County\, United States
GEO:37.652688;-85.394596
X-APPLE-STRUCTURED-LOCATION;VALUE=URI;X-ADDRESS=137 A Mills Road\, Loretto\
 , Kentucky\, 40037\, Marion County\, United States;X-APPLE-RADIUS=100;X-TI
 TLE=Wildstang Winery:geo:37.652688,-85.394596
END:VEVENT
BEGIN:VTIMEZONE
TZID:America/Kentucky/Louisville
X-LIC-LOCATION:America/Kentucky/Louisville
BEGIN:DAYLIGHT
DTSTART:20260308T030000
TZOFFSETFROM:-0500
TZOFFSETTO:-0400
TZNAME:EDT
END:DAYLIGHT
END:VTIMEZONE
END:VCALENDAR