BEGIN:VCALENDAR
VERSION:2.0
PRODID:-//wp-events-plugin.com//7.2.3.1//EN
BEGIN:VEVENT
UID:7824@visitlebanonky.com
DTSTART;TZID=America/Kentucky/Louisville:20250822T183000
DTEND;TZID=America/Kentucky/Louisville:20250822T210000
DTSTAMP:20250730T161658Z
URL:https://visitlebanonky.com/events/murder-mystery-dinner/
SUMMARY:Murder Mystery Dinner
DESCRIPTION:Murder Mystery Dinner at Kentucky Classic ARTS at Centre Square
  in the Blackbox Club.\nFri - Aug 22\, 2025 - 6:30pm EDT\nDon the Con has 
 called a meet and you're invited to take a seat. Dress up to step back in 
 time & experience his Mountain of Crime. Dinner includes a glass of wine\,
  cheese and nibbles to start as you are entertained by Honey's sultry tune
 s.\n\nBLT salad will be followed by a dinner buffet featuring Roast Beef\,
  Marinated Chicken Breast\, Mashed Potatoes and Gravy\, County Style Green
  Beans\, Bourbon Glazed Carrots\, Yeast Rolls with Butter and Jelly\, Chee
 secake or Chocolate Cake with Expresso Glaze. Speakeasy Password and instr
 uctions will be texted or emailed to you at noon on the day of the event.\
 n\nMurder Mystery Dinner\nFriday\, August 22\, 2025 - 06:30 PM EDT\n\n0\nD
 inner & Show\nincludes a glass of wine\, cheese\, nibbles\, salad\, dinner
  & dessert.\n\n$65.00\n+ $4.00 in Fees Tickets https://kentuckyclassicarts
 .thundertix.com/events/251229 
ATTACH;FMTTYPE=image/jpeg:https://visitlebanonky.com/wp-content/uploads/20
 25/07/2025_card_Wine_Cheese___Murder.jpg
CATEGORIES:Official
LOCATION:Kentucky Classic Arts Blackbox Club\, 237 North Spalding Avenue - 
 Downstairs\, Lebanon\, Kentucky\, 40033\, Marion County\, United States
X-APPLE-STRUCTURED-LOCATION;VALUE=URI;X-ADDRESS=237 North Spalding Avenue -
  Downstairs\, Lebanon\, Kentucky\, 40033\, Marion County\, United States;X
 -APPLE-RADIUS=100;X-TITLE=Kentucky Classic Arts Blackbox Club:geo:0,0
END:VEVENT
BEGIN:VTIMEZONE
TZID:America/Kentucky/Louisville
X-LIC-LOCATION:America/Kentucky/Louisville
BEGIN:DAYLIGHT
DTSTART:20250309T030000
TZOFFSETFROM:-0500
TZOFFSETTO:-0400
TZNAME:EDT
END:DAYLIGHT
END:VTIMEZONE
END:VCALENDAR