BEGIN:VCALENDAR
VERSION:2.0
PRODID:-//wp-events-plugin.com//7.2.3.1//EN
BEGIN:VEVENT
UID:6316@visitlebanonky.com
DTSTART;TZID=America/Kentucky/Louisville:20241114T180000
DTEND;TZID=America/Kentucky/Louisville:20241114T213000
DTSTAMP:20241022T035746Z
URL:https://visitlebanonky.com/events/myth-of-man-early-film-screening/
SUMMARY:Myth of Man: Early Film Screening
DESCRIPTION:6:00pm – 7:00pm – Doors Open / Step and Repeat Banner Photo
 s / Get Drinks and Snacks\n7:00pm – 9:00pm – Film Plays\n9:00pm – 9:
 30pm – Director / Producer / Cast Q&A\n\nMyth of Man is a science fictio
 n fantasy film that was shot in Washington County\, Kentucky. This is an e
 arly special cast and crew screening that features a Q&A following the fil
 m with the Director\, Producer and four lead actors (two from Vienna\, Aus
 tria\, one from Denver\, Colorado and one from Frankfort\, Kentucky). Many
  other local cast members will also be in attendance.\n \nElla embarks on 
 a whimsical odyssey between life and death\, convinced she has received a 
 message from her creator.\n\nTickets https://kentuckyclassicarts.com/ticke
 t-sales/ or at the door
ATTACH;FMTTYPE=image/jpeg:https://visitlebanonky.com/wp-content/uploads/20
 24/10/myth-of-man.jpg
CATEGORIES:Official
LOCATION:Kentucky Classic ARTS at Centre Square\, 237 North Spalding Avenue
 \, Lebanon\, KY\, 40033\, United States
X-APPLE-STRUCTURED-LOCATION;VALUE=URI;X-ADDRESS=237 North Spalding Avenue\,
  Lebanon\, KY\, 40033\, United States;X-APPLE-RADIUS=100;X-TITLE=Kentucky 
 Classic ARTS at Centre Square:geo:0,0
END:VEVENT
BEGIN:VTIMEZONE
TZID:America/Kentucky/Louisville
X-LIC-LOCATION:America/Kentucky/Louisville
BEGIN:STANDARD
DTSTART:20241103T010000
TZOFFSETFROM:-0400
TZOFFSETTO:-0500
TZNAME:EST
END:STANDARD
END:VTIMEZONE
END:VCALENDAR