BEGIN:VCALENDAR
VERSION:2.0
PRODID:-//wp-events-plugin.com//7.2.3.1//EN
BEGIN:VEVENT
UID:9194@visitlebanonky.com
DTSTART;TZID=America/Kentucky/Louisville:20260507T183000
DTEND;TZID=America/Kentucky/Louisville:20260507T200000
DTSTAMP:20260414T220139Z
URL:https://visitlebanonky.com/events/national-day-of-prayer/
SUMMARY:National Day of Prayer
DESCRIPTION:UNITED IN FAITH • UNITED IN PRAYER\nJoin us for a powerful an
 d inspiring National Day of Prayer Service as churches of all denomination
 s come together with one purpose — to glorify God\, seek His presence\, 
 and lift up our nation in unity.\nIn a time when the world needs hope more
  than ever\, we stand as one body\, one voice\, one faith — believing th
 at prayer changes things.\n🙌 Come expecting:\n• Spirit-filled worship
 \n• United prayer for our communities\, leaders\, and families\n• Enco
 uragement\, healing\, and renewal\n• A powerful move of God\n📍 Locati
 on: Abundant Life Church\n549 North Spalding Ave\, Lebanon\, KY\n📅 Nati
 onal Day of Prayer\nThis is more than a service — it’s a divine gather
 ing of unity\, faith\, and breakthrough.\n📍 Sponsored by the Marion Cou
 nty Ministerial Association\nLet’s come together. Let’s believe togeth
 er. Let’s seek God together.\n👉 ALL are welcome. Bring your family\, 
 your friends\, and your faith.
ATTACH;FMTTYPE=image/jpeg:https://visitlebanonky.com/wp-content/uploads/20
 26/04/national-day-of-prayer.jpg
CATEGORIES:Community
LOCATION:Abundant Life Assembly of God Church\, 549 N. Spalding Ave.\, Leba
 non\, Kentucky\, 40033\, Marion County\, United States
GEO:37.581432;-85.252528
X-APPLE-STRUCTURED-LOCATION;VALUE=URI;X-ADDRESS=549 N. Spalding Ave.\, Leba
 non\, Kentucky\, 40033\, Marion County\, United States;X-APPLE-RADIUS=100;
 X-TITLE=Abundant Life Assembly of God Church:geo:37.581432,-85.252528
END:VEVENT
BEGIN:VTIMEZONE
TZID:America/Kentucky/Louisville
X-LIC-LOCATION:America/Kentucky/Louisville
BEGIN:DAYLIGHT
DTSTART:20260308T030000
TZOFFSETFROM:-0500
TZOFFSETTO:-0400
TZNAME:EDT
END:DAYLIGHT
END:VTIMEZONE
END:VCALENDAR