BEGIN:VCALENDAR
VERSION:2.0
PRODID:-//wp-events-plugin.com//7.2.3.1//EN
BEGIN:VEVENT
UID:8664@visitlebanonky.com
DTSTART;TZID=America/Kentucky/Louisville:20260228T163000
DTEND;TZID=America/Kentucky/Louisville:20260228T193000
DTSTAMP:20260212T034633Z
URL:https://visitlebanonky.com/events/nina-maes-9th-annual-pie-supper-and-
 spaghetti-dinner/
SUMMARY:Nina Mae's 9th Annual Pie Supper and Spaghetti Dinner
DESCRIPTION:
ATTACH;FMTTYPE=image/jpeg:https://visitlebanonky.com/wp-content/uploads/20
 26/01/nina-mae-1.jpg
CATEGORIES:Community
LOCATION:St. Charles Parish Hall\, 675 Highway 327\, Lebanon\, Kentucky\, 4
 0033\, Marion County\, United States
GEO:37.594439;-85.343667
X-APPLE-STRUCTURED-LOCATION;VALUE=URI;X-ADDRESS=675 Highway 327\, Lebanon\,
  Kentucky\, 40033\, Marion County\, United States;X-APPLE-RADIUS=100;X-TIT
 LE=St. Charles Parish Hall:geo:37.594439,-85.343667
END:VEVENT
BEGIN:VTIMEZONE
TZID:America/Kentucky/Louisville
X-LIC-LOCATION:America/Kentucky/Louisville
BEGIN:STANDARD
DTSTART:20251102T010000
TZOFFSETFROM:-0400
TZOFFSETTO:-0500
TZNAME:EST
END:STANDARD
END:VTIMEZONE
END:VCALENDAR