BEGIN:VCALENDAR
VERSION:2.0
PRODID:-//wp-events-plugin.com//7.2.3.1//EN
BEGIN:VEVENT
UID:8877@visitlebanonky.com
DTSTART;TZID=America/Kentucky/Louisville:20260508T180000
DTEND;TZID=America/Kentucky/Louisville:20260508T220000
DTSTAMP:20260219T141653Z
URL:https://visitlebanonky.com/events/ohio-valley-wrestling-2/
SUMMARY:OHIO VALLEY WRESTLING
DESCRIPTION:Make sure you follow the event center page on Facebook HERE for
  changes and cancellations to the schedule and for ticket information.  \n
 \nOHIO VALLEY WRESTLING is COMING BACK to MARION COUNTY!!!!!!\nFRIDAY MAY 
 8th 2026\nDOOR OPEN at 6:00 pm\nBELL TIME at 7:00 pm\nTICKETS ON SALE SOON
  @ the EVENT CENTER & ONLINE \n
ATTACH;FMTTYPE=image/jpeg:https://visitlebanonky.com/wp-content/uploads/20
 26/02/wrestling.jpg
CATEGORIES:Official
LOCATION:Marion County Event Center and Sportsplex\, 101 Independence Drive
  \, LEBANON\, KY\, 40033\, Marion County\, United States
X-APPLE-STRUCTURED-LOCATION;VALUE=URI;X-ADDRESS=101 Independence Drive \, L
 EBANON\, KY\, 40033\, Marion County\, United States;X-APPLE-RADIUS=100;X-T
 ITLE=Marion County Event Center and Sportsplex:geo:0,0
END:VEVENT
BEGIN:VTIMEZONE
TZID:America/Kentucky/Louisville
X-LIC-LOCATION:America/Kentucky/Louisville
BEGIN:DAYLIGHT
DTSTART:20260308T030000
TZOFFSETFROM:-0500
TZOFFSETTO:-0400
TZNAME:EDT
END:DAYLIGHT
END:VTIMEZONE
END:VCALENDAR