BEGIN:VCALENDAR
VERSION:2.0
PRODID:-//wp-events-plugin.com//7.2.3.1//EN
BEGIN:VEVENT
UID:7597@visitlebanonky.com
DTSTART;TZID=America/Kentucky/Louisville:20250614T000000
DTEND;TZID=America/Kentucky/Louisville:20250614T000000
DTSTAMP:20250512T231115Z
URL:https://visitlebanonky.com/events/old-mill-days-3-on-3-basketball-tour
 nament/
SUMMARY:Old Mill Days 3 on 3 Basketball Tournament
DESCRIPTION:
ATTACH;FMTTYPE=image/jpeg:https://visitlebanonky.com/wp-content/uploads/20
 25/05/3-on-3-basketball.jpg
CATEGORIES:Community
LOCATION:Bradfordsville Park\, S Sixth Street\, Bradfordsville\, Kentucky\,
  40009\, Marion County\, United States
X-APPLE-STRUCTURED-LOCATION;VALUE=URI;X-ADDRESS=S Sixth Street\, Bradfordsv
 ille\, Kentucky\, 40009\, Marion County\, United States;X-APPLE-RADIUS=100
 ;X-TITLE=Bradfordsville Park:geo:0,0
END:VEVENT
BEGIN:VTIMEZONE
TZID:America/Kentucky/Louisville
X-LIC-LOCATION:America/Kentucky/Louisville
BEGIN:DAYLIGHT
DTSTART:20250309T030000
TZOFFSETFROM:-0500
TZOFFSETTO:-0400
TZNAME:EDT
END:DAYLIGHT
END:VTIMEZONE
END:VCALENDAR