BEGIN:VCALENDAR
VERSION:2.0
PRODID:-//wp-events-plugin.com//7.2.3.1//EN
BEGIN:VEVENT
UID:7600@visitlebanonky.com
DTSTART;TZID=America/Kentucky/Louisville:20250614T070000
DTEND;TZID=America/Kentucky/Louisville:20250614T100000
DTSTAMP:20250512T232209Z
URL:https://visitlebanonky.com/events/old-mill-days-breakfast/
SUMMARY:Old Mill Days Breakfast
DESCRIPTION:Breakfast is served! Buy tickets now for the Old Mill Days Brea
 kfast on June 14th from 7am-10am. Meals will be $10 at the door or $8 with
  our presale tickets. Contact committee members for tickets or message us 
 on Facebook. Follow the event page on Facebook at https://www.facebook.com
 /profile.php?id=100090369735034
ATTACH;FMTTYPE=image/jpeg:https://visitlebanonky.com/wp-content/uploads/20
 25/05/bville-breakfast.jpg
CATEGORIES:Community
LOCATION:Bradfordsville Civic Center\, 202 West Main Street\, Bradfordsvill
 e\, Kentucky\, 40009\, Marion County\, United States
GEO:37.493774;-85.150323
X-APPLE-STRUCTURED-LOCATION;VALUE=URI;X-ADDRESS=202 West Main Street\, Brad
 fordsville\, Kentucky\, 40009\, Marion County\, United States;X-APPLE-RADI
 US=100;X-TITLE=Bradfordsville Civic Center:geo:37.493774,-85.150323
END:VEVENT
BEGIN:VTIMEZONE
TZID:America/Kentucky/Louisville
X-LIC-LOCATION:America/Kentucky/Louisville
BEGIN:DAYLIGHT
DTSTART:20250309T030000
TZOFFSETFROM:-0500
TZOFFSETTO:-0400
TZNAME:EDT
END:DAYLIGHT
END:VTIMEZONE
END:VCALENDAR