BEGIN:VCALENDAR
VERSION:2.0
PRODID:-//wp-events-plugin.com//7.2.3.1//EN
BEGIN:VEVENT
UID:7601@visitlebanonky.com
DTSTART;TZID=America/Kentucky/Louisville:20250614T170000
DTEND;TZID=America/Kentucky/Louisville:20250614T180000
DTSTAMP:20250613T190509Z
URL:https://visitlebanonky.com/events/old-mill-days-duck-race/
SUMMARY:Old Mill Days Duck Race _NOTE RAIN CHANGE
DESCRIPTION:Quack\, quack! Who’s ready to win a stack? Don’t forget to 
 get your duck tickets before the big race on June 14. The race will be hel
 d at the 6 p.m. at the Civic Center. The winner will receive $1\,000 cash 
 prize. Tickets will also be sold on June 13 and 14 at Old Mill Days. Follo
 w the event page on Facebook at https://www.facebook.com/profile.php?id=10
 0090369735034
ATTACH;FMTTYPE=image/jpeg:https://visitlebanonky.com/wp-content/uploads/20
 25/05/duck-derby.jpg
CATEGORIES:Community
LOCATION:Bradfordsville Civic Center\, 202 West Main Street\, Bradfordsvill
 e\, Kentucky\, 40009\, Marion County\, United States
GEO:37.493774;-85.150323
X-APPLE-STRUCTURED-LOCATION;VALUE=URI;X-ADDRESS=202 West Main Street\, Brad
 fordsville\, Kentucky\, 40009\, Marion County\, United States;X-APPLE-RADI
 US=100;X-TITLE=Bradfordsville Civic Center:geo:37.493774,-85.150323
END:VEVENT
BEGIN:VTIMEZONE
TZID:America/Kentucky/Louisville
X-LIC-LOCATION:America/Kentucky/Louisville
BEGIN:DAYLIGHT
DTSTART:20250309T030000
TZOFFSETFROM:-0500
TZOFFSETTO:-0400
TZNAME:EDT
END:DAYLIGHT
END:VTIMEZONE
END:VCALENDAR