BEGIN:VCALENDAR
VERSION:2.0
PRODID:-//wp-events-plugin.com//7.2.3.1//EN
BEGIN:VEVENT
UID:7598@visitlebanonky.com
DTSTART;TZID=America/Kentucky/Louisville:20250614T140000
DTEND;TZID=America/Kentucky/Louisville:20250614T160000
DTSTAMP:20250613T190140Z
URL:https://visitlebanonky.com/events/old-mill-days-trivia/
SUMMARY:Old Mill Days Trivia
DESCRIPTION:Bring your thinking caps and join us for Trivia at Old Mill Day
 s. Last year's trivia game was a blast and we’re ready to do it again! G
 roups of 2-6 will fight it out for the $200 grand prize. Follow the event 
 page on Facebook at https://www.facebook.com/profile.php?id=10009036973503
 4
ATTACH;FMTTYPE=image/jpeg:https://visitlebanonky.com/wp-content/uploads/20
 25/05/bville-trivia.jpg
CATEGORIES:Community
LOCATION:Bradfordsville Civic Center\, 202 West Main Street\, Bradfordsvill
 e\, Kentucky\, 40009\, Marion County\, United States
GEO:37.493774;-85.150323
X-APPLE-STRUCTURED-LOCATION;VALUE=URI;X-ADDRESS=202 West Main Street\, Brad
 fordsville\, Kentucky\, 40009\, Marion County\, United States;X-APPLE-RADI
 US=100;X-TITLE=Bradfordsville Civic Center:geo:37.493774,-85.150323
END:VEVENT
BEGIN:VTIMEZONE
TZID:America/Kentucky/Louisville
X-LIC-LOCATION:America/Kentucky/Louisville
BEGIN:DAYLIGHT
DTSTART:20250309T030000
TZOFFSETFROM:-0500
TZOFFSETTO:-0400
TZNAME:EDT
END:DAYLIGHT
END:VTIMEZONE
END:VCALENDAR