BEGIN:VCALENDAR
VERSION:2.0
PRODID:-//wp-events-plugin.com//7.2.3.1//EN
BEGIN:VEVENT
UID:8143@visitlebanonky.com
DTSTART;TZID=America/Kentucky/Louisville:20251029T000000
DTEND;TZID=America/Kentucky/Louisville:20251029T000000
DTSTAMP:20251022T001043Z
URL:https://visitlebanonky.com/events/open-arms-fall-festival/
SUMMARY:Open Arms Fall Festival
DESCRIPTION:🍁IT'S THAT TIME AGAIN!!🍂\nWednesday\, October 29th beginn
 ing at 6pm!!\n---OACC FALL FESTIVAL----\n*Trunk-or-Treat \n*Chili Cook-off
  \n*Costume contest \nPrizes\, fun and fellowship!!!
ATTACH;FMTTYPE=image/jpeg:https://visitlebanonky.com/wp-content/uploads/20
 25/10/open-arms.jpg
CATEGORIES:Community
LOCATION:Open Arms Community Church\, 2205 Danville Rd.\, Lebanon\, Kentuck
 y\, 40033\, Marion County\, United States
GEO:37.578429;-85.212781
X-APPLE-STRUCTURED-LOCATION;VALUE=URI;X-ADDRESS=2205 Danville Rd.\, Lebanon
 \, Kentucky\, 40033\, Marion County\, United States;X-APPLE-RADIUS=100;X-T
 ITLE=Open Arms Community Church:geo:37.578429,-85.212781
END:VEVENT
BEGIN:VTIMEZONE
TZID:America/Kentucky/Louisville
X-LIC-LOCATION:America/Kentucky/Louisville
BEGIN:DAYLIGHT
DTSTART:20250309T030000
TZOFFSETFROM:-0500
TZOFFSETTO:-0400
TZNAME:EDT
END:DAYLIGHT
END:VTIMEZONE
END:VCALENDAR