BEGIN:VCALENDAR
VERSION:2.0
PRODID:-//wp-events-plugin.com//7.2.3.1//EN
BEGIN:VEVENT
UID:6293@visitlebanonky.com
DTSTART;TZID=America/Kentucky/Louisville:20241027T140000
DTEND;TZID=America/Kentucky/Louisville:20241027T160000
DTSTAMP:20241017T214537Z
URL:https://visitlebanonky.com/events/our-lady-of-the-hills-church-trick-o
 r-treat/
SUMMARY:Our Lady of the Hills Church Trick or Treat
DESCRIPTION:Anyone is welcome to come join us and give candy out!
ATTACH;FMTTYPE=image/jpeg:https://visitlebanonky.com/wp-content/uploads/20
 24/10/our-lady-of-hills.jpg
CATEGORIES:Community
LOCATION:Our Lady of the Hills Church\, 9259 Old Lebanon Road\, Finley\, KY
 \, 42718\, Marion County\, United States
X-APPLE-STRUCTURED-LOCATION;VALUE=URI;X-ADDRESS=9259 Old Lebanon Road\, Fin
 ley\, KY\, 42718\, Marion County\, United States;X-APPLE-RADIUS=100;X-TITL
 E=Our Lady of the Hills Church:geo:0,0
END:VEVENT
BEGIN:VTIMEZONE
TZID:America/Kentucky/Louisville
X-LIC-LOCATION:America/Kentucky/Louisville
BEGIN:DAYLIGHT
DTSTART:20240310T030000
TZOFFSETFROM:-0500
TZOFFSETTO:-0400
TZNAME:EDT
END:DAYLIGHT
END:VTIMEZONE
END:VCALENDAR