BEGIN:VCALENDAR
VERSION:2.0
PRODID:-//wp-events-plugin.com//7.2.3.1//EN
BEGIN:VEVENT
UID:7614@visitlebanonky.com
DTSTART;TZID=America/Kentucky/Louisville:20250531T000000
DTEND;TZID=America/Kentucky/Louisville:20250531T000000
DTSTAMP:20250520T032021Z
URL:https://visitlebanonky.com/events/outdoor-movie-night-at-loretto-city-
 park/
SUMMARY:Outdoor Movie Night at Loretto City Park
DESCRIPTION:Kick Off Summer with an Outdoor Movie Night!\nBring your blanke
 ts\, lawn chairs\, and your favorite people. We’ll have popcorn and a wh
 ole lot of fun to get summer started right!\nAll MCPS students and ages we
 lcome!
ATTACH;FMTTYPE=image/jpeg:https://visitlebanonky.com/wp-content/uploads/20
 25/05/movie.jpg
CATEGORIES:Community
LOCATION:Loretto City Park\, School Drive\, Loretto\, KY\, 40037\, Marion C
 ounty\, United States
X-APPLE-STRUCTURED-LOCATION;VALUE=URI;X-ADDRESS=School Drive\, Loretto\, KY
 \, 40037\, Marion County\, United States;X-APPLE-RADIUS=100;X-TITLE=Lorett
 o City Park:geo:0,0
END:VEVENT
BEGIN:VTIMEZONE
TZID:America/Kentucky/Louisville
X-LIC-LOCATION:America/Kentucky/Louisville
BEGIN:DAYLIGHT
DTSTART:20250309T030000
TZOFFSETFROM:-0500
TZOFFSETTO:-0400
TZNAME:EDT
END:DAYLIGHT
END:VTIMEZONE
END:VCALENDAR