BEGIN:VCALENDAR
VERSION:2.0
PRODID:-//wp-events-plugin.com//7.2.3.1//EN
BEGIN:VEVENT
UID:5960@visitlebanonky.com
DTSTART;TZID=America/Kentucky/Louisville:20240907T180000
DTEND;TZID=America/Kentucky/Louisville:20240907T220000
DTSTAMP:20240801T154718Z
URL:https://visitlebanonky.com/events/overdose-awareness-night-at-graham-m
 emorial-park/
SUMMARY:Overdose Awareness Night at Graham Memorial Park
DESCRIPTION:Marion County Heartland Coalition invites you to participate in
  our first Overdose Awareness Night at the Park\, Sept. 7 from 6-10 p.m.
ATTACH;FMTTYPE=image/jpeg:https://visitlebanonky.com/wp-content/uploads/20
 24/08/overdose.jpg
CATEGORIES:Community
LOCATION:Graham Memorial Park\, 525 Graham Memorial Drive\, Lebanon\, Kentu
 cky\, 40033\, Marion County\, United States
GEO:37.562057;-85.249356
X-APPLE-STRUCTURED-LOCATION;VALUE=URI;X-ADDRESS=525 Graham Memorial Drive\,
  Lebanon\, Kentucky\, 40033\, Marion County\, United States;X-APPLE-RADIUS
 =100;X-TITLE=Graham Memorial Park:geo:37.562057,-85.249356
END:VEVENT
BEGIN:VTIMEZONE
TZID:America/Kentucky/Louisville
X-LIC-LOCATION:America/Kentucky/Louisville
BEGIN:DAYLIGHT
DTSTART:20240310T030000
TZOFFSETFROM:-0500
TZOFFSETTO:-0400
TZNAME:EDT
END:DAYLIGHT
END:VTIMEZONE
END:VCALENDAR