BEGIN:VCALENDAR
VERSION:2.0
PRODID:-//wp-events-plugin.com//7.2.3.1//EN
BEGIN:VEVENT
UID:6622@visitlebanonky.com
DTSTART;TZID=America/Kentucky/Louisville:20241220T000000
DTEND;TZID=America/Kentucky/Louisville:20241220T000000
DTSTAMP:20241219T174233Z
URL:https://visitlebanonky.com/events/pajama-party-at-cozy-corner/
SUMMARY:Pajama Party  at Cozy Corner
DESCRIPTION:This weekend is more laid back for those that want to celebrate
  but not be in a big crowd. \nFriday is Christmas Pajama Party \nSaturday 
 is Ugly Sweater Party \nBoth nights are karaoke and we’ll have fun party
  games set out for everyone to enjoy! \n18+ with valid ID \nNo entry fee\n
 Follow on Facebook for more information on this and other events at Cozy C
 orner at https://www.facebook.com/cozycornerlorettoky
ATTACH;FMTTYPE=image/jpeg:https://visitlebanonky.com/wp-content/uploads/20
 24/12/pj-cozy.jpg
CATEGORIES:Community
LOCATION:Cozy Corner Restaurant\, 4950 Highway 52\, Loretto\, KY/Marion\, 4
 0037\, Marion County\, United States
X-APPLE-STRUCTURED-LOCATION;VALUE=URI;X-ADDRESS=4950 Highway 52\, Loretto\,
  KY/Marion\, 40037\, Marion County\, United States;X-APPLE-RADIUS=100;X-TI
 TLE=Cozy Corner Restaurant:geo:0,0
END:VEVENT
BEGIN:VTIMEZONE
TZID:America/Kentucky/Louisville
X-LIC-LOCATION:America/Kentucky/Louisville
BEGIN:STANDARD
DTSTART:20241103T010000
TZOFFSETFROM:-0400
TZOFFSETTO:-0500
TZNAME:EST
END:STANDARD
END:VTIMEZONE
END:VCALENDAR