BEGIN:VCALENDAR
VERSION:2.0
PRODID:-//wp-events-plugin.com//7.2.3.1//EN
BEGIN:VEVENT
UID:8686@visitlebanonky.com
DTSTART;TZID=America/Kentucky/Louisville:20260328T183000
DTEND;TZID=America/Kentucky/Louisville:20260328T220000
DTSTAMP:20260129T215247Z
URL:https://visitlebanonky.com/events/paul-childers-2/
SUMMARY:Paul Childers
DESCRIPTION:From the event page on Facebook HERE\nThree years ago\, Paul Ch
 ilders came home to Lebanon to debut a new album.\nNow he’s coming back 
 — with another.\nOn March 28\, join us at Venue 68 for an intimate homet
 own performance as Paul debuts brand-new music where it all began.\nThis o
 ne’s special.\n🎶 New album debut\n🏠 Homecoming show\n🍸 Cash bar
 \n🚪 Doors 6:30 PM | 🎤 Show 7:30 PM\n🎟 Limited seating\nSpecial di
 scount on merch for ticket holders!
ATTACH;FMTTYPE=image/jpeg:https://visitlebanonky.com/wp-content/uploads/20
 26/01/PAUL-CHILDERS.jpg
CATEGORIES:Official
LOCATION:Venue 68\, 212 W Main St\, Lebanon\, KY/Marion\, 40033\, United St
 ates
X-APPLE-STRUCTURED-LOCATION;VALUE=URI;X-ADDRESS=212 W Main St\, Lebanon\, K
 Y/Marion\, 40033\, United States;X-APPLE-RADIUS=100;X-TITLE=Venue 68:geo:0
 ,0
END:VEVENT
BEGIN:VTIMEZONE
TZID:America/Kentucky/Louisville
X-LIC-LOCATION:America/Kentucky/Louisville
BEGIN:DAYLIGHT
DTSTART:20260308T030000
TZOFFSETFROM:-0500
TZOFFSETTO:-0400
TZNAME:EDT
END:DAYLIGHT
END:VTIMEZONE
END:VCALENDAR