BEGIN:VCALENDAR
VERSION:2.0
PRODID:-//wp-events-plugin.com//7.2.3.1//EN
BEGIN:VEVENT
UID:8659@visitlebanonky.com
DTSTART;TZID=America/Kentucky/Louisville:20260211T111500
DTEND;TZID=America/Kentucky/Louisville:20260211T120000
DTSTAMP:20260122T195541Z
URL:https://visitlebanonky.com/events/pelvic-health/
SUMMARY:Pelvic Health
DESCRIPTION:KORT Lebanon is providing an educational series at the Marion C
 ounty Public Library.\nIf you have questions about your pelvic health\, th
 is session is for you. We'll be covering topics like incontinence\, consti
 pation\, prolapse and more.\nA light lunch will be provided.\n\nYou can fi
 nd this event on Facebook HERE
ATTACH;FMTTYPE=image/jpeg:https://visitlebanonky.com/wp-content/uploads/20
 26/01/pelvic-health.jpg
CATEGORIES:Community
LOCATION:Marion County Public Library\, 201 E Main St\, Lebanon\, KY/Marion
 \, 40033\, Marion County\, United States
X-APPLE-STRUCTURED-LOCATION;VALUE=URI;X-ADDRESS=201 E Main St\, Lebanon\, K
 Y/Marion\, 40033\, Marion County\, United States;X-APPLE-RADIUS=100;X-TITL
 E=Marion County Public Library:geo:0,0
END:VEVENT
BEGIN:VTIMEZONE
TZID:America/Kentucky/Louisville
X-LIC-LOCATION:America/Kentucky/Louisville
BEGIN:STANDARD
DTSTART:20251102T010000
TZOFFSETFROM:-0400
TZOFFSETTO:-0500
TZNAME:EST
END:STANDARD
END:VTIMEZONE
END:VCALENDAR