BEGIN:VCALENDAR
VERSION:2.0
PRODID:-//wp-events-plugin.com//7.2.3.1//EN
BEGIN:VEVENT
UID:9188@visitlebanonky.com
DTSTART;TZID=America/Kentucky/Louisville:20260418T120000
DTEND;TZID=America/Kentucky/Louisville:20260418T180000
DTSTAMP:20260413T184745Z
URL:https://visitlebanonky.com/events/phantom-oath-ink-art-grand-opening/
SUMMARY:Phantom Oath Ink & Art Grand Opening
DESCRIPTION:After months of preparation\, Phantom Oath Ink Parlor is openin
 g its doors.\nWe invite you to join us for The Opening of the Oath — a g
 rand opening and open studio experience where art\, ink\, and imagination 
 meet.\nCome step inside and experience the space:\n🖤 Tour the studio\n
 🖤 Meet the artists\n🖤 View available tattoo flash designs\n🖤 Shop
  Phantom Oath books\, prints\, and merchandise\n🎟️ Opening Day Raffle
 \nWe’ll also be hosting a raffle featuring a curated Phantom Oath gift b
 asket\, including a tattoo gift certificate and items from local small bus
 inesses.\nWhether you’re planning your next tattoo or simply curious to 
 see what we’ve created\, you’re invited to come be part of the beginni
 ng.\n📍 Court Square\, Lebanon KY\n📅 Saturday\, April 18\n⏰ 12 PM 
 – 6 PM\nThe Oath begins. 🕯️\n✨ First-time visitors and supporters
  will be able to sign the First Oath Ledger — a record of those who stoo
 d with us on day one.\nFollow on Facebook HERE Find the event on Facebook 
 HERE
ATTACH;FMTTYPE=image/jpeg:https://visitlebanonky.com/wp-content/uploads/20
 26/04/PHANTOM-OATH.jpg
CATEGORIES:Community
LOCATION:Phantom Oath Ink & Art\, 7 Court Square\, Lebanon\, Kentucky\, 400
 33\, Marion County\, United States
GEO:37.808804;-85.466745
X-APPLE-STRUCTURED-LOCATION;VALUE=URI;X-ADDRESS=7 Court Square\, Lebanon\, 
 Kentucky\, 40033\, Marion County\, United States;X-APPLE-RADIUS=100;X-TITL
 E=Phantom Oath Ink & Art:geo:37.808804,-85.466745
END:VEVENT
BEGIN:VTIMEZONE
TZID:America/Kentucky/Louisville
X-LIC-LOCATION:America/Kentucky/Louisville
BEGIN:DAYLIGHT
DTSTART:20260308T030000
TZOFFSETFROM:-0500
TZOFFSETTO:-0400
TZNAME:EDT
END:DAYLIGHT
END:VTIMEZONE
END:VCALENDAR