BEGIN:VCALENDAR
VERSION:2.0
PRODID:-//wp-events-plugin.com//7.2.3.1//EN
BEGIN:VEVENT
UID:8169@visitlebanonky.com
DTSTART;TZID=America/Kentucky/Louisville:20251101T000000
DTEND;TZID=America/Kentucky/Louisville:20251101T000000
DTSTAMP:20251029T014848Z
URL:https://visitlebanonky.com/events/pistol-poker/
SUMMARY:Pistol Poker
DESCRIPTION:MARK THIS ON YOUR CALENDAR 📆 \n🎯 This Saturday\, November
  1st!\nJoin us at the Marion Co. Sportsman’s Club for a fun-filled day!\
 n🃏 Pistol Poker – starts at 11:00 AM\n♣️ Pass the Trash Tournamen
 t – kicks off at 3:00 PM\n💵 $5 Cover Charge\nBring your friends\, enj
 oy some friendly competition\, and have a great time at the club!\n📍716
  Sportsman Lake Rd.\, Lebanon\, KY
ATTACH;FMTTYPE=image/jpeg:https://visitlebanonky.com/wp-content/uploads/20
 25/10/pistol-poker.jpg
CATEGORIES:Community
LOCATION:Marion County Sportsmans Club\, 716 Sportsmans Lake Road\, Lebanon
 \, Kentucky\, 40033\, Marion County\, United States
GEO:37.51209;-85.24837
X-APPLE-STRUCTURED-LOCATION;VALUE=URI;X-ADDRESS=716 Sportsmans Lake Road\, 
 Lebanon\, Kentucky\, 40033\, Marion County\, United States;X-APPLE-RADIUS=
 100;X-TITLE=Marion County Sportsmans Club:geo:37.51209,-85.24837
END:VEVENT
BEGIN:VTIMEZONE
TZID:America/Kentucky/Louisville
X-LIC-LOCATION:America/Kentucky/Louisville
BEGIN:DAYLIGHT
DTSTART:20250309T030000
TZOFFSETFROM:-0500
TZOFFSETTO:-0400
TZNAME:EDT
END:DAYLIGHT
END:VTIMEZONE
END:VCALENDAR