BEGIN:VCALENDAR
VERSION:2.0
PRODID:-//wp-events-plugin.com//7.2.3.1//EN
BEGIN:VEVENT
UID:8958@visitlebanonky.com
DTSTART;TZID=America/Kentucky/Louisville:20260415T163000
DTEND;TZID=America/Kentucky/Louisville:20260415T183000
DTSTAMP:20260324T212916Z
URL:https://visitlebanonky.com/events/pizza-and-pacifiers-community-baby-s
 hower/
SUMMARY:Pizza and Pacifiers Community Baby Shower
DESCRIPTION:The Marion County Community Baby Shower is coming up Wednesday\
 , April 15\, from 4:30-6:30 p.m. at the Marion County Public Library (201 
 E. Main St.\, Lebanon).  \nParents/guardians who are expecting or have a b
 aby up to 1-year-old are invited to meet with resource vendors\, enjoy a f
 ree meal\, learn about safe practices\, and making healthy choices. Partic
 ipants will be eligible to win a $25 gift card and other prizes!\nRegister
  in English HERE\nRegístrate en Español HERE\n 
ATTACH;FMTTYPE=image/jpeg:https://visitlebanonky.com/wp-content/uploads/20
 26/03/baby-shower.jpg
CATEGORIES:Community
LOCATION:Marion County Public Library\, 201 E Main St\, Lebanon\, KY/Marion
 \, 40033\, Marion County\, United States
X-APPLE-STRUCTURED-LOCATION;VALUE=URI;X-ADDRESS=201 E Main St\, Lebanon\, K
 Y/Marion\, 40033\, Marion County\, United States;X-APPLE-RADIUS=100;X-TITL
 E=Marion County Public Library:geo:0,0
END:VEVENT
BEGIN:VTIMEZONE
TZID:America/Kentucky/Louisville
X-LIC-LOCATION:America/Kentucky/Louisville
BEGIN:DAYLIGHT
DTSTART:20260308T030000
TZOFFSETFROM:-0500
TZOFFSETTO:-0400
TZNAME:EDT
END:DAYLIGHT
END:VTIMEZONE
END:VCALENDAR