BEGIN:VCALENDAR
VERSION:2.0
PRODID:-//wp-events-plugin.com//7.2.3.1//EN
BEGIN:VEVENT
UID:8101@visitlebanonky.com
DTSTART;TZID=America/Kentucky/Louisville:20251018T000000
DTEND;TZID=America/Kentucky/Louisville:20251018T000000
DTSTAMP:20251011T020253Z
URL:https://visitlebanonky.com/events/poker-run-in-memory-of-brian-hatt/
SUMMARY:Poker Run in Memory of Brian Hatt
DESCRIPTION:Join us for a Poker Run honoring Lieutenant Brian Hatt\, a true
  hero who embodied courage\, compassion\, and heart in his selfless servic
 e to our community. This event celebrates his life\, legacy\, and the impa
 ct he had on those around him. By coming together\, we can continue his sp
 irit of kindness\, generosity\, and dedication. \n📅Date: October 18\, 2
 025\n📍Location: Long Branch Saloon\, New Haven\n🗒️Registration sta
 rts at 10 am\n🚨Kickstands up at Noon\nAll proceeds will support his wif
 e Tonya. Whether you ride or not\, your presence is welcome as we gather t
 o honor Brian's memory and keep his legacy alive. Let's unite to fill our 
 roads and hearts with love\, laughter\, and remembrance of a remarkable in
 dividual. \nSpecial thanks to Long Branch Saloon for their kindness in org
 anizing this event!
ATTACH;FMTTYPE=image/jpeg:https://visitlebanonky.com/wp-content/uploads/20
 25/10/poker-run.jpg
CATEGORIES:Community
LOCATION:Long Branch Saloon\, 135 South Main Street\, New Haven\, Kentucky\
 , 40051\, Nelson County\, United States
GEO:37.657414;-85.593787
X-APPLE-STRUCTURED-LOCATION;VALUE=URI;X-ADDRESS=135 South Main Street\, New
  Haven\, Kentucky\, 40051\, Nelson County\, United States;X-APPLE-RADIUS=1
 00;X-TITLE=Long Branch Saloon:geo:37.657414,-85.593787
END:VEVENT
BEGIN:VTIMEZONE
TZID:America/Kentucky/Louisville
X-LIC-LOCATION:America/Kentucky/Louisville
BEGIN:DAYLIGHT
DTSTART:20250309T030000
TZOFFSETFROM:-0500
TZOFFSETTO:-0400
TZNAME:EDT
END:DAYLIGHT
END:VTIMEZONE
END:VCALENDAR