BEGIN:VCALENDAR
VERSION:2.0
PRODID:-//wp-events-plugin.com//7.2.3.1//EN
BEGIN:VEVENT
UID:6612@visitlebanonky.com
DTSTART;TZID=America/Kentucky/Louisville:20241222T170000
DTEND;TZID=America/Kentucky/Louisville:20241222T210000
DTSTAMP:20241213T051819Z
URL:https://visitlebanonky.com/events/polar-express-themed-night/
SUMMARY:Polar Express Themed Night
DESCRIPTION:We’re hosting a magical Polar Express-themed night at Pub 68 
 on Sunday\, December 22\, 2024 at 5 PM!\n🎟 Only 48 child tickets availa
 ble for $15 each! Adult price: $15 (pre-paid\, or at event) Purchase child
  tickets & make your reservation now at Pub 68. \nChild tickets include:\n
 🍕 North Pole Buffet\n☕ Hot Chocolate Bar\n🎨 Kid’s Craft (include
 d in child ticket only)\n🎥 Movie Showing\n🍪 Cookies\n🎁Treat Bag (
 included in child ticket only)\n🎅 Don’t wait—tickets will sell fast
 ! Come grab yours at Pub 68 ASAP!
ATTACH;FMTTYPE=image/jpeg:https://visitlebanonky.com/wp-content/uploads/20
 24/12/polar.jpg
CATEGORIES:Community
LOCATION:Pub 68\, 202 W. Main St.\, Lebanon\, Kentucky\, 40033\, Marion Cou
 nty\, United States
GEO:37.569117;-85.254444
X-APPLE-STRUCTURED-LOCATION;VALUE=URI;X-ADDRESS=202 W. Main St.\, Lebanon\,
  Kentucky\, 40033\, Marion County\, United States;X-APPLE-RADIUS=100;X-TIT
 LE=Pub 68:geo:37.569117,-85.254444
END:VEVENT
BEGIN:VTIMEZONE
TZID:America/Kentucky/Louisville
X-LIC-LOCATION:America/Kentucky/Louisville
BEGIN:STANDARD
DTSTART:20241103T010000
TZOFFSETFROM:-0400
TZOFFSETTO:-0500
TZNAME:EST
END:STANDARD
END:VTIMEZONE
END:VCALENDAR