BEGIN:VCALENDAR
VERSION:2.0
PRODID:-//wp-events-plugin.com//7.2.3.1//EN
BEGIN:VEVENT
UID:9131@visitlebanonky.com
DTSTART;TZID=America/Kentucky/Louisville:20260411T160000
DTEND;TZID=America/Kentucky/Louisville:20260411T170000
DTSTAMP:20260327T164217Z
URL:https://visitlebanonky.com/events/political-forum-for-county-judge-exe
 cutive-candidates/
SUMMARY:Countdown to 2026 Political Forum for County Judge Executive Candid
 ates
DESCRIPTION:Loretto Motherhouse is hosting a forum for those running for Co
 unty Judge Executive on April 11 from 4:00-5:00 pm.
ATTACH;FMTTYPE=image/jpeg:https://visitlebanonky.com/wp-content/uploads/20
 26/03/countdown-to-2026.png
CATEGORIES:Community
LOCATION:Loretto Motherhouse Academy Building\, 430 Academy Lane\, Nerinx\,
  Kentucky\, 40049\, Marion County\, United States
GEO:37.826327;-85.956962
X-APPLE-STRUCTURED-LOCATION;VALUE=URI;X-ADDRESS=430 Academy Lane\, Nerinx\,
  Kentucky\, 40049\, Marion County\, United States;X-APPLE-RADIUS=100;X-TIT
 LE=Loretto Motherhouse Academy Building:geo:37.826327,-85.956962
END:VEVENT
BEGIN:VTIMEZONE
TZID:America/Kentucky/Louisville
X-LIC-LOCATION:America/Kentucky/Louisville
BEGIN:DAYLIGHT
DTSTART:20260308T030000
TZOFFSETFROM:-0500
TZOFFSETTO:-0400
TZNAME:EDT
END:DAYLIGHT
END:VTIMEZONE
END:VCALENDAR