BEGIN:VCALENDAR
VERSION:2.0
PRODID:-//wp-events-plugin.com//7.2.3.1//EN
BEGIN:VEVENT
UID:9130@visitlebanonky.com
DTSTART;TZID=America/Kentucky/Louisville:20260411T140000
DTEND;TZID=America/Kentucky/Louisville:20260411T160000
DTSTAMP:20260327T161500Z
URL:https://visitlebanonky.com/events/political-forum-for-jailer-candidate
 s/
SUMMARY:Political Forum For Jailer Candidates
DESCRIPTION:MARION COUNTY JAILER CANDIDATES FORUM Hosted by the Marion Coun
 ty NAACP – Lebanon Branch\nMarion County Public Library – Lebanon\, KY
  Saturday\, April 11\, 2026 2:00 PM – 4:00 PM\nMeet the Candidates. Ask 
 Questions. Be Informed. Join us for a community forum featuring the candid
 ates running for Marion County Detention Center Jailer. This event is desi
 gned to help voters:\n• Hear each candidate’s vision for the Detention
  Center\n• Understand their priorities and leadership approach\n• Part
 icipate in a respectful\, moderated Q&A\n• Engage directly with those se
 eking to serve our county. Why Attend? \nYour voice matters. Your vote mat
 ters. This forum gives our community a chance to learn\, engage\, and make
  informed decisions about the future of our detention center and public sa
 fety. Hosted By\nMarion County NAACP – Lebanon Branch Committed to justi
 ce\, equity\, and civic engagement.
CATEGORIES:Community
LOCATION:Marion County Public Library\, 201 E Main St\, Lebanon\, KY/Marion
 \, 40033\, Marion County\, United States
X-APPLE-STRUCTURED-LOCATION;VALUE=URI;X-ADDRESS=201 E Main St\, Lebanon\, K
 Y/Marion\, 40033\, Marion County\, United States;X-APPLE-RADIUS=100;X-TITL
 E=Marion County Public Library:geo:0,0
END:VEVENT
BEGIN:VTIMEZONE
TZID:America/Kentucky/Louisville
X-LIC-LOCATION:America/Kentucky/Louisville
BEGIN:DAYLIGHT
DTSTART:20260308T030000
TZOFFSETFROM:-0500
TZOFFSETTO:-0400
TZNAME:EDT
END:DAYLIGHT
END:VTIMEZONE
END:VCALENDAR