BEGIN:VCALENDAR
VERSION:2.0
PRODID:-//wp-events-plugin.com//7.2.3.1//EN
BEGIN:VEVENT
UID:9124@visitlebanonky.com
DTSTART;TZID=America/Kentucky/Louisville:20260409T183000
DTEND;TZID=America/Kentucky/Louisville:20260409T203000
DTSTAMP:20260327T162348Z
URL:https://visitlebanonky.com/events/political-forum-hosted-by-gng-on-dem
 and/
SUMMARY:Political Forum Hosted By gng on Demand
DESCRIPTION:Join gng On Demand for a Major Political Forum! \nBe part of th
 e conversation as gng On Demand hosts the 14th District State Senate Forum
  on Thursday\, April 9th\, 2026\, beginning at 6:30 PM.\nWe’re bringing 
 together candidates from across Central Kentucky for an informative and en
 gaging evening focused on the future of the 14th District.\n3/25/2026 - Co
 nfirmed candidates include:\n🔵 Democratic Candidates:\n• Malcolm W. J
 ones (Larue County)\n• Carrie Gribbins Truitt (Marion County)\n🔴 Repu
 blican Candidates:\n• Stephen Carney (Washington County)\n• Ben Mudd (
 Marion County)\n• James Victery (Nelson County)\n• Lynn Shelburne (Spe
 ncer County)\n• Dallas Robinson (Larue County)\n• Peggy Brady Smith (M
 arion County)\n🗳️ In addition\, candidates running in the May Primary
  from Marion\, Nelson & Washington County  will have the opportunity to sp
 eak & introduce themselves prior to the start of the forum dialogue.\n🎙
 ️ The forum will be moderated by David Winebrenner\, guiding discussion 
 on the key issues that matter most to voters across the 14th District.\n
 📅 Mark your calendar: Thursday\, April 9th\, 2026\n⏰ Time: 6:30 PM\nF
 rom the Historic Opera House in Downtown Springfield.  \nDon’t miss this
  opportunity to hear directly from the candidates and stay informed before
  you head to the polls!\n📺 Watch LIVE on gng On Demand on your favorite
  streaming device!You can find them on Facebook HERE
CATEGORIES:Community
LOCATION:Opera House/ Central Ky Theatre\, 124 W. Main St.\, Springfield\, 
 KY/ Washington\, 40069\, Washington County\, United States
X-APPLE-STRUCTURED-LOCATION;VALUE=URI;X-ADDRESS=124 W. Main St.\, Springfie
 ld\, KY/ Washington\, 40069\, Washington County\, United States;X-APPLE-RA
 DIUS=100;X-TITLE=Opera House/ Central Ky Theatre:geo:0,0
END:VEVENT
BEGIN:VTIMEZONE
TZID:America/Kentucky/Louisville
X-LIC-LOCATION:America/Kentucky/Louisville
BEGIN:DAYLIGHT
DTSTART:20260308T030000
TZOFFSETFROM:-0500
TZOFFSETTO:-0400
TZNAME:EDT
END:DAYLIGHT
END:VTIMEZONE
END:VCALENDAR