BEGIN:VCALENDAR
VERSION:2.0
PRODID:-//wp-events-plugin.com//7.2.3.1//EN
BEGIN:VEVENT
UID:9129@visitlebanonky.com
DTSTART;TZID=America/Kentucky/Louisville:20260414T180000
DTEND;TZID=America/Kentucky/Louisville:20260414T200000
DTSTAMP:20260414T170622Z
URL:https://visitlebanonky.com/events/political-forum-in-bradfordsville-2/
SUMMARY:Political Forum in Bradfordsville
DESCRIPTION:Bradfordsville is hosting a political forum at the Bradfordsvil
 le Civic Center Building\, 202 West Main St.\, Bradfordsville\, Ky. 40009 
 on Tuesday April 14 2026 beginning at 6 p.m. Candidates for Marion County 
 judge executive\, Marion County sheriff\, and Marion County jailer will gi
 ve 10 minute talks of what they plan to do if elected and how they will se
 rve in their elected roles\, followed by 5 minutes from each candidate of 
 a question and answer session.\n     Everyone is welcome to attend.  Light
  refreshments will be served. If the crowd is too large this will move to 
 the Bradfordsville School Community Center.
CATEGORIES:Community
LOCATION:Old Bradfordsville School Building\, 115 S 6th Street\, Bradfordsv
 ille\, Kentucky\, 40009\, United States
GEO:37.491772;-85.147819
X-APPLE-STRUCTURED-LOCATION;VALUE=URI;X-ADDRESS=115 S 6th Street\, Bradford
 sville\, Kentucky\, 40009\, United States;X-APPLE-RADIUS=100;X-TITLE=Old B
 radfordsville School Building:geo:37.491772,-85.147819
END:VEVENT
BEGIN:VTIMEZONE
TZID:America/Kentucky/Louisville
X-LIC-LOCATION:America/Kentucky/Louisville
BEGIN:DAYLIGHT
DTSTART:20260308T030000
TZOFFSETFROM:-0500
TZOFFSETTO:-0400
TZNAME:EDT
END:DAYLIGHT
END:VTIMEZONE
END:VCALENDAR