BEGIN:VCALENDAR
VERSION:2.0
PRODID:-//wp-events-plugin.com//7.2.3.1//EN
BEGIN:VEVENT
UID:9125@visitlebanonky.com
DTSTART;TZID=America/Kentucky/Louisville:20260407T180000
DTEND;TZID=America/Kentucky/Louisville:20260407T200000
DTSTAMP:20260403T163802Z
URL:https://visitlebanonky.com/events/political-forum-in-bradfordsville/
SUMMARY:Political Forum in Bradfordsville
DESCRIPTION:Bradfordsville is hosting a political forum at the Bradfordsvil
 le Civic Center Building\, 202 West Main St.\, Bradfordsville\, Ky. 40009 
 on Tuesday April 7\, 2026 beginning at 6 p.m. This is for State Senate Dis
 trict 14 candidates vying for Senator Jimmy Higdon's spot that will be ope
 n in January. Candidates will have 10 minute sessions to tell of their pla
 ns and goals if elected\, then after each candidate speaks they will engag
 e in 5 minutes of questions and answers with those attending.\n  \nEveryon
 e is welcome to attend. Light refreshments will be served.  
CATEGORIES:Community
LOCATION:Bradfordsville Civic Center\, 202 West Main Street\, Bradfordsvill
 e\, Kentucky\, 40009\, Marion County\, United States
GEO:37.493774;-85.150323
X-APPLE-STRUCTURED-LOCATION;VALUE=URI;X-ADDRESS=202 West Main Street\, Brad
 fordsville\, Kentucky\, 40009\, Marion County\, United States;X-APPLE-RADI
 US=100;X-TITLE=Bradfordsville Civic Center:geo:37.493774,-85.150323
END:VEVENT
BEGIN:VTIMEZONE
TZID:America/Kentucky/Louisville
X-LIC-LOCATION:America/Kentucky/Louisville
BEGIN:DAYLIGHT
DTSTART:20260308T030000
TZOFFSETFROM:-0500
TZOFFSETTO:-0400
TZNAME:EDT
END:DAYLIGHT
END:VTIMEZONE
END:VCALENDAR