BEGIN:VCALENDAR
VERSION:2.0
PRODID:-//wp-events-plugin.com//7.2.3.1//EN
BEGIN:VEVENT
UID:5951@visitlebanonky.com
DTSTART;TZID=America/Kentucky/Louisville:20240911T000000
DTEND;TZID=America/Kentucky/Louisville:20240912T000000
DTSTAMP:20240729T203902Z
URL:https://visitlebanonky.com/events/pop-up-drivers-license-registration-
 for-marion-county/
SUMMARY:Pop Up Drivers License Registration for Marion County
DESCRIPTION:There will be a Pop Up Drivers license opportunity on September
  12\, 2024 at the Marion County Fiscal Courtroom in Lebanon. The window to
  register for this event begins at 12 midnight on August 29\, 2024. Go to 
 drive.ky.gov to register. Spots will be limited.
ATTACH;FMTTYPE=image/jpeg:https://visitlebanonky.com/wp-content/uploads/20
 24/07/pop-up.jpg
CATEGORIES:Community
END:VEVENT
BEGIN:VTIMEZONE
TZID:America/Kentucky/Louisville
X-LIC-LOCATION:America/Kentucky/Louisville
BEGIN:DAYLIGHT
DTSTART:20240310T030000
TZOFFSETFROM:-0500
TZOFFSETTO:-0400
TZNAME:EDT
END:DAYLIGHT
END:VTIMEZONE
END:VCALENDAR