BEGIN:VCALENDAR
VERSION:2.0
PRODID:-//wp-events-plugin.com//7.2.3.1//EN
BEGIN:VEVENT
UID:7833@visitlebanonky.com
DTSTART;TZID=America/Kentucky/Louisville:20250831T120000
DTEND;TZID=America/Kentucky/Louisville:20250831T180000
DTSTAMP:20250730T174556Z
URL:https://visitlebanonky.com/events/porter-family-reunion/
SUMMARY:Porter Family Reunion
DESCRIPTION:From the event page on Facebook at https://www.facebook.com/sha
 re/18EthiAH82/\nPORTER FAMILY REUNION\, LEBANON\, KY\nFamily Of William an
 d Mary Ann (Miles) Porter\nSee Details On Porter Family Group Page\nPorter
 s Come Out And Support Your Family And Meet The Porter Family Reunion New 
 Generation Committee
ATTACH;FMTTYPE=image/jpeg:https://visitlebanonky.com/wp-content/uploads/20
 25/07/Porter-reunion.jpg
CATEGORIES:Community
LOCATION:Knights of Columbus Hall\, 600 South Spalding Ave.\, Lebanon\, Ken
 tucky\, 40033\, Marion County\, United States
GEO:37.56278;-85.246128
X-APPLE-STRUCTURED-LOCATION;VALUE=URI;X-ADDRESS=600 South Spalding Ave.\, L
 ebanon\, Kentucky\, 40033\, Marion County\, United States;X-APPLE-RADIUS=1
 00;X-TITLE=Knights of Columbus Hall:geo:37.56278,-85.246128
END:VEVENT
BEGIN:VTIMEZONE
TZID:America/Kentucky/Louisville
X-LIC-LOCATION:America/Kentucky/Louisville
BEGIN:DAYLIGHT
DTSTART:20250309T030000
TZOFFSETFROM:-0500
TZOFFSETTO:-0400
TZNAME:EDT
END:DAYLIGHT
END:VTIMEZONE
END:VCALENDAR