BEGIN:VCALENDAR
VERSION:2.0
PRODID:-//wp-events-plugin.com//7.2.3.1//EN
BEGIN:VEVENT
UID:5967@visitlebanonky.com
DTSTART;TZID=America/Kentucky/Louisville:20240819T180000
DTEND;TZID=America/Kentucky/Louisville:20240819T200000
DTSTAMP:20240805T182813Z
URL:https://visitlebanonky.com/events/power-line-safety-training-at-gravel
 -switch-fire-department/
SUMMARY:Power Line Safety Training at Gravel Switch Fire Department
DESCRIPTION: \nInter County Electric and Gravel Switch Fire Department will
  be be doing power line safety training on August 19 at 6 p.m. at the fire
  department. The will be props set up for demonstration. This is a great l
 earning experience. Anyone who would like to attend is welcome. \nAny ques
 tions contact: Chief Corey Hafley 270-283-5422\n 
CATEGORIES:Community
LOCATION:Gravel Switch Fire Department\, 881 Gravel Switch Road\, Gravel Sw
 itch\, Kentucky\, 40328\, Marion County\, United States
X-APPLE-STRUCTURED-LOCATION;VALUE=URI;X-ADDRESS=881 Gravel Switch Road\, Gr
 avel Switch\, Kentucky\, 40328\, Marion County\, United States;X-APPLE-RAD
 IUS=100;X-TITLE=Gravel Switch Fire Department:geo:0,0
END:VEVENT
BEGIN:VTIMEZONE
TZID:America/Kentucky/Louisville
X-LIC-LOCATION:America/Kentucky/Louisville
BEGIN:DAYLIGHT
DTSTART:20240310T030000
TZOFFSETFROM:-0500
TZOFFSETTO:-0400
TZNAME:EDT
END:DAYLIGHT
END:VTIMEZONE
END:VCALENDAR