BEGIN:VCALENDAR
VERSION:2.0
PRODID:-//wp-events-plugin.com//7.2.3.1//EN
BEGIN:VEVENT
UID:5973@visitlebanonky.com
DTSTART;TZID=America/Kentucky/Louisville:20240812T170000
DTEND;TZID=America/Kentucky/Louisville:20240812T200000
DTSTAMP:20240809T181947Z
URL:https://visitlebanonky.com/events/prayer-rally-200-year-anniversary-of
 -the-death-of-fr-nerinckx/
SUMMARY:Prayer Rally - 200 year anniversary of the death of Fr. Nerinckx
DESCRIPTION:From the Bardstown Catholic page on Facebook at https://www.fac
 ebook.com/photo/?fbid=356119864209929&set=a.145610351927549\nThis Monday! 
 You only have once chance in all of history to honor the man who built up 
 our Kentucky Church with his own bare hands by being present at his grave 
 200 years since he died. A prayer rally is the least we can do. \nThe day 
 of celebration\, however\, ending with another gathering atop Calvary Hill
  (the hill with the cross) will hopefully inspire all for the next 9 years
  as we await the 2\,000th anniversary of the Catholic Church. That is the 
 movement of revival coming into our home through the Great Novena. Some of
  the best local leaders I know will be giving talks on this hill. May the 
 light of this gathering shine out across the fields and woods of Kentucky.
  May all who pass by on the road become curious about those people gathere
 d on the hill with the cross.\nI hope to see all of you there! God bless y
 ou all!
ATTACH;FMTTYPE=image/jpeg:https://visitlebanonky.com/wp-content/uploads/20
 24/08/catholic.jpg
CATEGORIES:Community
END:VEVENT
BEGIN:VTIMEZONE
TZID:America/Kentucky/Louisville
X-LIC-LOCATION:America/Kentucky/Louisville
BEGIN:DAYLIGHT
DTSTART:20240310T030000
TZOFFSETFROM:-0500
TZOFFSETTO:-0400
TZNAME:EDT
END:DAYLIGHT
END:VTIMEZONE
END:VCALENDAR