BEGIN:VCALENDAR
VERSION:2.0
PRODID:-//wp-events-plugin.com//7.2.3.1//EN
BEGIN:VEVENT
UID:7803@visitlebanonky.com
DTSTART;TZID=America/Kentucky/Louisville:20250905T000000
DTEND;TZID=America/Kentucky/Louisville:20250905T000000
DTSTAMP:20250825T040127Z
URL:https://visitlebanonky.com/events/presale-for-mc-country-ham-days-2025
 -shirts/
SUMMARY:Presale for MC Country Ham Days 2025 Shirts
DESCRIPTION:The Official 2025 Ham Days T-Shirt Presale is now OPEN! \nThis 
 year’s theme is “The One with Friends & Community” and what better w
 ay to celebrate than by grabbing your official 2025 Marion County Country 
 Ham Days T-shirt today! Can’t wait for in-person sales? This online pres
 ale is for YOU!\nChoose local pickup at the Chamber office or have it ship
 ped straight to your door.\nOffical presale days will be August 22 and Sep
 tember 5 at the Marion County Chamber of Commerce office.\nOnline presale 
 orders will be ready for pick-up starting August 22.\nA huge thank you to 
 Nukem Graphics\, LLC. for helping us open presale early.\nYou can find the
  link for buying now at https://store.nukemgraphics.com/hamdays/shop/produ
 ct-detail/1003712\nBe sure to follow the official Marion County Country Ha
 m Days page on Facebook at https://www.facebook.com/marioncountycountryham
 days\n\n\n
ATTACH;FMTTYPE=image/jpeg:https://visitlebanonky.com/wp-content/uploads/20
 25/07/ham-days-shirt-e1756094479468.jpg
CATEGORIES:Official
LOCATION:Marion County Chamber of Commerce\, 239 N. Spalding Ave.\, Lebanon
 \, Kentucky\, 40033\, Marion County\, United States
GEO:37.572152;-85.253893
X-APPLE-STRUCTURED-LOCATION;VALUE=URI;X-ADDRESS=239 N. Spalding Ave.\, Leba
 non\, Kentucky\, 40033\, Marion County\, United States;X-APPLE-RADIUS=100;
 X-TITLE=Marion County Chamber of Commerce:geo:37.572152,-85.253893
END:VEVENT
BEGIN:VTIMEZONE
TZID:America/Kentucky/Louisville
X-LIC-LOCATION:America/Kentucky/Louisville
BEGIN:DAYLIGHT
DTSTART:20250309T030000
TZOFFSETFROM:-0500
TZOFFSETTO:-0400
TZNAME:EDT
END:DAYLIGHT
END:VTIMEZONE
END:VCALENDAR