BEGIN:VCALENDAR
VERSION:2.0
PRODID:-//wp-events-plugin.com//7.2.3.1//EN
BEGIN:VEVENT
UID:7618@visitlebanonky.com
DTSTART;TZID=America/Kentucky/Louisville:20250522T120000
DTEND;TZID=America/Kentucky/Louisville:20250522T130000
DTSTAMP:20250520T033815Z
URL:https://visitlebanonky.com/events/preservation-society-of-mc-meeting/
SUMMARY:Preservation Society of MC Meeting
DESCRIPTION:The Preservation Society of Marion County will be meeting on Th
 ursday\, May 22 at the Marion Co. Public Library at noon. You can find the
  event page on Facebook at https://www.facebook.com/share/16D5JjYBsN/
ATTACH;FMTTYPE=image/jpeg:https://visitlebanonky.com/wp-content/uploads/20
 25/05/meeting.jpg
CATEGORIES:Community
LOCATION:Marion County Public Library\, 201 E Main St\, Lebanon\, KY/Marion
 \, 40033\, Marion County\, United States
X-APPLE-STRUCTURED-LOCATION;VALUE=URI;X-ADDRESS=201 E Main St\, Lebanon\, K
 Y/Marion\, 40033\, Marion County\, United States;X-APPLE-RADIUS=100;X-TITL
 E=Marion County Public Library:geo:0,0
END:VEVENT
BEGIN:VTIMEZONE
TZID:America/Kentucky/Louisville
X-LIC-LOCATION:America/Kentucky/Louisville
BEGIN:DAYLIGHT
DTSTART:20250309T030000
TZOFFSETFROM:-0500
TZOFFSETTO:-0400
TZNAME:EDT
END:DAYLIGHT
END:VTIMEZONE
END:VCALENDAR