BEGIN:VCALENDAR
VERSION:2.0
PRODID:-//wp-events-plugin.com//7.2.3.1//EN
BEGIN:VEVENT
UID:8939@visitlebanonky.com
DTSTART;TZID=America/Kentucky/Louisville:20260306T000000
DTEND;TZID=America/Kentucky/Louisville:20260307T000000
DTSTAMP:20260306T170204Z
URL:https://visitlebanonky.com/events/preslee-cole-boutique-grand-opening-
 inside-luxe-salon/
SUMMARY:Preslee Cole Boutique Grand Opening Inside Luxe Salon
DESCRIPTION:Follow on Facebook HERE\nGrand opening 4-8 p.m. Friday. Also op
 en this Saturday 10 a.m. till 4 p.m. as part of the Downtown Spring Shop H
 op.
ATTACH;FMTTYPE=image/jpeg:https://visitlebanonky.com/wp-content/uploads/20
 26/03/preslee-cole.jpg
CATEGORIES:Official
LOCATION:Preslee Cole Boutique Inside Luxe Salon\, 148 W Main Street\, Leba
 non\, Kentucky\, 40033\, Marion County\, United States
GEO:37.569462;-85.253728
X-APPLE-STRUCTURED-LOCATION;VALUE=URI;X-ADDRESS=148 W Main Street\, Lebanon
 \, Kentucky\, 40033\, Marion County\, United States;X-APPLE-RADIUS=100;X-T
 ITLE=Preslee Cole Boutique Inside Luxe Salon:geo:37.569462,-85.253728
END:VEVENT
BEGIN:VTIMEZONE
TZID:America/Kentucky/Louisville
X-LIC-LOCATION:America/Kentucky/Louisville
BEGIN:STANDARD
DTSTART:20251102T010000
TZOFFSETFROM:-0400
TZOFFSETTO:-0500
TZNAME:EST
END:STANDARD
END:VTIMEZONE
END:VCALENDAR