BEGIN:VCALENDAR
VERSION:2.0
PRODID:-//wp-events-plugin.com//7.2.3.1//EN
BEGIN:VEVENT
UID:6718@visitlebanonky.com
DTSTART;TZID=America/Kentucky/Louisville:20250118T150000
DTEND;TZID=America/Kentucky/Louisville:20250118T200000
DTSTAMP:20241230T202915Z
URL:https://visitlebanonky.com/events/project-graduation-fundraiser/
SUMMARY:Project Graduation Fundraiser
DESCRIPTION:The Country Store Restaurant will be doing a fundraiser for the
  MCHS class of 2025. It will be Saturday\, January 18 from 3-8 p.m. A perc
 entage of all sales will be donated to their Project Graduation.  
ATTACH;FMTTYPE=image/jpeg:https://visitlebanonky.com/wp-content/uploads/20
 24/12/project-graduation.jpg
CATEGORIES:Community
LOCATION:Country Store Restaurant\, 205 W Main St\, Bradfordsville\, Kentuc
 ky\, 40009\, Marion County\, United States
GEO:37.494976;-85.147883
X-APPLE-STRUCTURED-LOCATION;VALUE=URI;X-ADDRESS=205 W Main St\, Bradfordsvi
 lle\, Kentucky\, 40009\, Marion County\, United States;X-APPLE-RADIUS=100;
 X-TITLE=Country Store Restaurant:geo:37.494976,-85.147883
END:VEVENT
BEGIN:VTIMEZONE
TZID:America/Kentucky/Louisville
X-LIC-LOCATION:America/Kentucky/Louisville
BEGIN:STANDARD
DTSTART:20241103T010000
TZOFFSETFROM:-0400
TZOFFSETTO:-0500
TZNAME:EST
END:STANDARD
END:VTIMEZONE
END:VCALENDAR