BEGIN:VCALENDAR
VERSION:2.0
PRODID:-//wp-events-plugin.com//7.2.3.1//EN
BEGIN:VEVENT
UID:5977@visitlebanonky.com
DTSTART;TZID=America/Kentucky/Louisville:20240820T170000
DTEND;TZID=America/Kentucky/Louisville:20240820T190000
DTSTAMP:20240809T183625Z
URL:https://visitlebanonky.com/events/public-information-meeting/
SUMMARY:Public Information Meeting
DESCRIPTION:
ATTACH;FMTTYPE=image/jpeg:https://visitlebanonky.com/wp-content/uploads/20
 24/08/information-meeting.jpg
CATEGORIES:Community
LOCATION:Centre Square Gym\, 239 N. Spalding Ave.\, Lebanon\, Kentucky\, 40
 033\, Marion County\, United States
GEO:37.57235;-85.253775
X-APPLE-STRUCTURED-LOCATION;VALUE=URI;X-ADDRESS=239 N. Spalding Ave.\, Leba
 non\, Kentucky\, 40033\, Marion County\, United States;X-APPLE-RADIUS=100;
 X-TITLE=Centre Square Gym:geo:37.57235,-85.253775
END:VEVENT
BEGIN:VTIMEZONE
TZID:America/Kentucky/Louisville
X-LIC-LOCATION:America/Kentucky/Louisville
BEGIN:DAYLIGHT
DTSTART:20240310T030000
TZOFFSETFROM:-0500
TZOFFSETTO:-0400
TZNAME:EDT
END:DAYLIGHT
END:VTIMEZONE
END:VCALENDAR