BEGIN:VCALENDAR
VERSION:2.0
PRODID:-//wp-events-plugin.com//7.2.3.1//EN
BEGIN:VEVENT
UID:8945@visitlebanonky.com
DTSTART;TZID=America/Kentucky/Louisville:20261205T000000
DTEND;TZID=America/Kentucky/Louisville:20261205T000000
DTSTAMP:20260306T171527Z
URL:https://visitlebanonky.com/events/raywick-community-park-2026-events-c
 alendar-christmas-in-the-park/
SUMMARY:Raywick Community Park 2026 Events Calendar - Christmas In The Park
DESCRIPTION:Follow on Facebook at HERE for more information as it becomes a
 vailable.\n\nRaywick Community Park 2026 Events\nThanks to our sponsors an
 d everyone that supports our small community!\nMarch 28- Easter In The Par
 k\nJune 27- Raywick Homecoming\nOctober 24- Halloween In The Park\nDecembe
 r 5- Christmas In The Park
CATEGORIES:Community
LOCATION:Raywick Community Park\, Main Street\, Raywick\, Kentucky\, 40060\
 , Marion County\, United States
GEO:37.559432;-85.431475
X-APPLE-STRUCTURED-LOCATION;VALUE=URI;X-ADDRESS=Main Street\, Raywick\, Ken
 tucky\, 40060\, Marion County\, United States;X-APPLE-RADIUS=100;X-TITLE=R
 aywick Community Park:geo:37.559432,-85.431475
END:VEVENT
BEGIN:VTIMEZONE
TZID:America/Kentucky/Louisville
X-LIC-LOCATION:America/Kentucky/Louisville
BEGIN:STANDARD
DTSTART:20261101T010000
TZOFFSETFROM:-0400
TZOFFSETTO:-0500
TZNAME:EST
END:STANDARD
END:VTIMEZONE
END:VCALENDAR