BEGIN:VCALENDAR
VERSION:2.0
PRODID:-//wp-events-plugin.com//7.2.3.1//EN
BEGIN:VEVENT
UID:8944@visitlebanonky.com
DTSTART;TZID=America/Kentucky/Louisville:20261024T000000
DTEND;TZID=America/Kentucky/Louisville:20261024T000000
DTSTAMP:20260306T171403Z
URL:https://visitlebanonky.com/events/raywick-community-park-2026-events-c
 alendar-halloween-in-the-park/
SUMMARY:Raywick Community Park 2026 Events Calendar - Halloween In The Park
DESCRIPTION:Follow on Facebook at HERE for more information as it becomes a
 vailable.\n\nRaywick Community Park 2026 Events\nThanks to our sponsors an
 d everyone that supports our small community!\nMarch 28- Easter In The Par
 k\nJune 27- Raywick Homecoming\nOctober 24- Halloween In The Park\nDecembe
 r 5- Christmas In The Park
CATEGORIES:Community
LOCATION:Raywick Community Park\, Main Street\, Raywick\, Kentucky\, 40060\
 , Marion County\, United States
GEO:37.559432;-85.431475
X-APPLE-STRUCTURED-LOCATION;VALUE=URI;X-ADDRESS=Main Street\, Raywick\, Ken
 tucky\, 40060\, Marion County\, United States;X-APPLE-RADIUS=100;X-TITLE=R
 aywick Community Park:geo:37.559432,-85.431475
END:VEVENT
BEGIN:VTIMEZONE
TZID:America/Kentucky/Louisville
X-LIC-LOCATION:America/Kentucky/Louisville
BEGIN:DAYLIGHT
DTSTART:20260308T030000
TZOFFSETFROM:-0500
TZOFFSETTO:-0400
TZNAME:EDT
END:DAYLIGHT
END:VTIMEZONE
END:VCALENDAR