BEGIN:VCALENDAR
VERSION:2.0
PRODID:-//wp-events-plugin.com//7.2.3.1//EN
BEGIN:VEVENT
UID:7610@visitlebanonky.com
DTSTART;TZID=America/Kentucky/Louisville:20250627T180000
DTEND;TZID=America/Kentucky/Louisville:20250627T210000
DTSTAMP:20250620T143313Z
URL:https://visitlebanonky.com/events/raywick-community-park-cornhole-tour
 nament-2/
SUMMARY:Raywick Community Park Cornhole Tournament
DESCRIPTION:Follow on Facebook at https://www.facebook.com/RaywickCommunity
 Park  \nCornhole Tournament!\nJune 27 @ 6pm\nGet you a partner and come ha
 ve some fun! \nMusic and refreshments provided!\nAll proceeds go to the Ra
 ywick Community Park!\nMessage our FB page or Lance Abell to register!\n 
ATTACH;FMTTYPE=image/jpeg:https://visitlebanonky.com/wp-content/uploads/20
 25/05/CORNHOLE.jpg
CATEGORIES:Community,Official
LOCATION:Raywick Community Park\, Main Street\, Raywick\, Kentucky\, 40060\
 , Marion County\, United States
GEO:37.559432;-85.431475
X-APPLE-STRUCTURED-LOCATION;VALUE=URI;X-ADDRESS=Main Street\, Raywick\, Ken
 tucky\, 40060\, Marion County\, United States;X-APPLE-RADIUS=100;X-TITLE=R
 aywick Community Park:geo:37.559432,-85.431475
END:VEVENT
BEGIN:VTIMEZONE
TZID:America/Kentucky/Louisville
X-LIC-LOCATION:America/Kentucky/Louisville
BEGIN:DAYLIGHT
DTSTART:20250309T030000
TZOFFSETFROM:-0500
TZOFFSETTO:-0400
TZNAME:EDT
END:DAYLIGHT
END:VTIMEZONE
END:VCALENDAR