BEGIN:VCALENDAR
VERSION:2.0
PRODID:-//wp-events-plugin.com//7.2.3.1//EN
BEGIN:VEVENT
UID:8661@visitlebanonky.com
DTSTART;TZID=America/Kentucky/Louisville:20260516T110000
DTEND;TZID=America/Kentucky/Louisville:20260516T180000
DTSTAMP:20260123T001124Z
URL:https://visitlebanonky.com/events/raywick-fire-departments-crusade-for
 -children-poker-run/
SUMMARY:Raywick Fire Department's Crusade For Children Poker Run
DESCRIPTION:Find this event on Facebook HERE\n\nOn Saturday\, May 16\, we
 ’re hosting a Poker Run at the Raywick Fire Department to support the WH
 AS Crusade for Children.\nThere will be cash prizes\, food after the ride\
 , raffles and auction items — but more than anything\, it’s about show
 ing up\, supporting our kids\, and standing behind the people who always s
 tand behind us.\nIf you can ride\, ride. If you can’t\, come support. Ev
 ery bit matters.\nKickstands up at 12 p.m.\n 
ATTACH;FMTTYPE=image/jpeg:https://visitlebanonky.com/wp-content/uploads/20
 26/01/poker-run.jpg
CATEGORIES:Community
LOCATION:Raywick Fire Department\, 315 Broadway St.\, Raywick\, Kentucky\, 
 40060\, Marion County\, United States
GEO:37.559546;-85.4303
X-APPLE-STRUCTURED-LOCATION;VALUE=URI;X-ADDRESS=315 Broadway St.\, Raywick\
 , Kentucky\, 40060\, Marion County\, United States;X-APPLE-RADIUS=100;X-TI
 TLE=Raywick Fire Department:geo:37.559546,-85.4303
END:VEVENT
BEGIN:VTIMEZONE
TZID:America/Kentucky/Louisville
X-LIC-LOCATION:America/Kentucky/Louisville
BEGIN:DAYLIGHT
DTSTART:20260308T030000
TZOFFSETFROM:-0500
TZOFFSETTO:-0400
TZNAME:EDT
END:DAYLIGHT
END:VTIMEZONE
END:VCALENDAR