BEGIN:VCALENDAR
VERSION:2.0
PRODID:-//wp-events-plugin.com//7.2.3.1//EN
BEGIN:VEVENT
UID:8909@visitlebanonky.com
DTSTART;TZID=America/Kentucky/Louisville:20260403T160000
DTEND;TZID=America/Kentucky/Louisville:20260403T200000
DTSTAMP:20260228T201200Z
URL:https://visitlebanonky.com/events/raywick-fire-departments-fish-fry/
SUMMARY:Raywick Fire Department's Fish Fry
DESCRIPTION:Hey y’all — it’s almost time for our annual Fish Fry! 
 🐟🔥\nThis is one of our favorite times of the year — good food\, fa
 miliar faces\, and a whole lot of community. There’s just something spec
 ial about seeing everyone come together under one roof\, catching up\, lau
 ghing\, and supporting the people who show up when our town needs them mos
 t.\nWe hope you’ll come join us for another great dinner and an even bet
 ter evening. Bring your family\, bring your friends\, and come hungry!\nCo
 me show up and show out for your local fire department — we can’t do w
 hat we do without this community behind us. ❤️🚒\nFollow on Facebook
  HERE
ATTACH;FMTTYPE=image/jpeg:https://visitlebanonky.com/wp-content/uploads/20
 26/02/raywick-fish-fry.jpg
CATEGORIES:Community
LOCATION:Raywick Fire Department\, 315 Broadway St.\, Raywick\, Kentucky\, 
 40060\, Marion County\, United States
GEO:37.559546;-85.4303
X-APPLE-STRUCTURED-LOCATION;VALUE=URI;X-ADDRESS=315 Broadway St.\, Raywick\
 , Kentucky\, 40060\, Marion County\, United States;X-APPLE-RADIUS=100;X-TI
 TLE=Raywick Fire Department:geo:37.559546,-85.4303
END:VEVENT
BEGIN:VTIMEZONE
TZID:America/Kentucky/Louisville
X-LIC-LOCATION:America/Kentucky/Louisville
BEGIN:DAYLIGHT
DTSTART:20260308T030000
TZOFFSETFROM:-0500
TZOFFSETTO:-0400
TZNAME:EDT
END:DAYLIGHT
END:VTIMEZONE
END:VCALENDAR