BEGIN:VCALENDAR
VERSION:2.0
PRODID:-//wp-events-plugin.com//7.2.3.1//EN
BEGIN:VEVENT
UID:7574@visitlebanonky.com
DTSTART;TZID=America/Kentucky/Louisville:20250507T000000
DTEND;TZID=America/Kentucky/Louisville:20250701T000000
DTSTAMP:20250507T220213Z
URL:https://visitlebanonky.com/events/registration-now-open-for-ckt-broadw
 ay-bootcamp/
SUMMARY:Registration Now Open for CKT Broadway Bootcamp
DESCRIPTION:Central Kentucky Theatre's BROADWAY BOOTCAMP has arrived! Join 
 us for a week of Musical Theatre as we learn selections from our upcoming 
 2025/2026 season. This camp will include sessions with Broadway National T
 our artists Aaron Robinson and Caroline Glazier! Students will work closel
 y alongside Aaron\, Caroline\, and the CKT staff to create a fun and engag
 ing musical theatre showcase. This camp will be for ages 5-18. Each day wi
 ll be broken up into two sessions. Our 5-11 y/o will meet from 9 a.m. till
  noon each day and our 12-18 y/o will meet from 1-4 p.m. each day. Student
 s will learn high energy dance numbers\, theatre games\, get one on one vo
 cal and acting coaching from Broadway artists\, and get to sharpen and ref
 ine different theatre techniques. Camp registration is $125 for the week. 
 Space is limited! Sign your student up today! \nRegistration can be found 
 on our website at the centralkytheatre.com! We hope to see you on the stag
 e this summer!
ATTACH;FMTTYPE=image/jpeg:https://visitlebanonky.com/wp-content/uploads/20
 25/05/broadway-bootcamp.jpg
CATEGORIES:Community
LOCATION:Opera House/ Central Ky Theatre\, 124 W. Main St.\, Springfield\, 
 KY/ Washington\, 40069\, Washington County\, United States
X-APPLE-STRUCTURED-LOCATION;VALUE=URI;X-ADDRESS=124 W. Main St.\, Springfie
 ld\, KY/ Washington\, 40069\, Washington County\, United States;X-APPLE-RA
 DIUS=100;X-TITLE=Opera House/ Central Ky Theatre:geo:0,0
END:VEVENT
BEGIN:VTIMEZONE
TZID:America/Kentucky/Louisville
X-LIC-LOCATION:America/Kentucky/Louisville
BEGIN:DAYLIGHT
DTSTART:20250309T030000
TZOFFSETFROM:-0500
TZOFFSETTO:-0400
TZNAME:EDT
END:DAYLIGHT
END:VTIMEZONE
END:VCALENDAR