BEGIN:VCALENDAR
VERSION:2.0
PRODID:-//wp-events-plugin.com//7.2.3.1//EN
BEGIN:VEVENT
UID:7572@visitlebanonky.com
DTSTART;TZID=America/Kentucky/Louisville:20250507T000000
DTEND;TZID=America/Kentucky/Louisville:20250530T000000
DTSTAMP:20250507T213401Z
URL:https://visitlebanonky.com/events/registration-open-for-summer-dance-c
 lasses/
SUMMARY:Registration Open For Summer Dance Classes
DESCRIPTION:🌟 Get Ready to Dance This Summer! 🌟\nWe're thrilled about
  our Summer Dance Classes—starting soon and taught by THREE incredible i
 nstructors you won’t want to miss! Whether you're a beginner or looking 
 to sharpen your skills\, there’s something for everyone.\n💃 Tap – R
 hythm\, precision\, and fun!\n🎭 Musical Theater – Where dance meets d
 rama and big stage energy!\n🩰 Ballet – Grace\, strength\, and beautif
 ul technique!\nJoin us for an inspiring\, high-energy summer of movement\,
  creativity\, and connection. Spots are filling fast\, so don’t wait!\n
 📅 Classes begin this summer \n📍 Kentucky Classic Arts\n📞 https://
 kentuckyclassicarts.com/dance/\nLet's make this a summer to remember—see
  you on the dance floor!
ATTACH;FMTTYPE=image/jpeg:https://visitlebanonky.com/wp-content/uploads/20
 25/05/summer-dance.jpg
CATEGORIES:Community
LOCATION:Kentucky Classic ARTS at Centre Square\, 237 North Spalding Avenue
 \, Lebanon\, KY\, 40033\, United States
X-APPLE-STRUCTURED-LOCATION;VALUE=URI;X-ADDRESS=237 North Spalding Avenue\,
  Lebanon\, KY\, 40033\, United States;X-APPLE-RADIUS=100;X-TITLE=Kentucky 
 Classic ARTS at Centre Square:geo:0,0
END:VEVENT
BEGIN:VTIMEZONE
TZID:America/Kentucky/Louisville
X-LIC-LOCATION:America/Kentucky/Louisville
BEGIN:DAYLIGHT
DTSTART:20250309T030000
TZOFFSETFROM:-0500
TZOFFSETTO:-0400
TZNAME:EDT
END:DAYLIGHT
END:VTIMEZONE
END:VCALENDAR